BEGIN:VCALENDAR
VERSION:2.0
PRODID:-//Northwest Arkansas - ECPv6.15.17.1//NONSGML v1.0//EN
CALSCALE:GREGORIAN
METHOD:PUBLISH
X-ORIGINAL-URL:https://northwestarkansas.org
X-WR-CALDESC:Events for Northwest Arkansas
REFRESH-INTERVAL;VALUE=DURATION:PT1H
X-Robots-Tag:noindex
X-PUBLISHED-TTL:PT1H
BEGIN:VTIMEZONE
TZID:America/Chicago
BEGIN:DAYLIGHT
TZOFFSETFROM:-0600
TZOFFSETTO:-0500
TZNAME:CDT
DTSTART:20240310T080000
END:DAYLIGHT
BEGIN:STANDARD
TZOFFSETFROM:-0500
TZOFFSETTO:-0600
TZNAME:CST
DTSTART:20241103T070000
END:STANDARD
BEGIN:DAYLIGHT
TZOFFSETFROM:-0600
TZOFFSETTO:-0500
TZNAME:CDT
DTSTART:20250309T080000
END:DAYLIGHT
BEGIN:STANDARD
TZOFFSETFROM:-0500
TZOFFSETTO:-0600
TZNAME:CST
DTSTART:20251102T070000
END:STANDARD
BEGIN:DAYLIGHT
TZOFFSETFROM:-0600
TZOFFSETTO:-0500
TZNAME:CDT
DTSTART:20260308T080000
END:DAYLIGHT
BEGIN:STANDARD
TZOFFSETFROM:-0500
TZOFFSETTO:-0600
TZNAME:CST
DTSTART:20261101T070000
END:STANDARD
END:VTIMEZONE
BEGIN:VEVENT
DTSTART;VALUE=DATE:20251011
DTEND;VALUE=DATE:20251013
DTSTAMP:20260420T224135
CREATED:20251009T165325Z
LAST-MODIFIED:20251009T165325Z
UID:10004047-1760140800-1760313599@northwestarkansas.org
SUMMARY:Ladies Allride MB Skills Camp
DESCRIPTION:This camp will be hosted near Slaughter Pen recreation area (mountain bike playground) where we will spend the morning using the grass\, natural terrain and purpose-built obstacles to learn lots of awesome skills. In the afternoons we’ll hop on the nearby trail system which incorporates progressive features\, but also provides alternatives for riders of all levels.  This is a “cross country” focused camp with pedaling up and descending down fun\, well-built trails with intermittent sections of technical riding through rocks and fun features to play on like wooden wall rides and great corners.  E-bikes ARE allowed on the Bentonville trails. \nTraditional indigenous territories of the Osage Nation\, Caddo Nation\, Quapaw Nation\, Cherokee Nation\, Shawnee Tribe
URL:https://northwestarkansas.org/event/ladies-allride-mb-skills-camp/
LOCATION:Slaughter Pen Recreation Area\, 2400 N. Walton Blvd.\, Bentonville\, AR\, 72712\, United States
ATTACH;FMTTYPE=image/jpeg:https://northwestarkansas.org/wp-content/uploads/2025/09/2025-Ladies-Allride-MB-Skills-Camp.jpg
END:VEVENT
END:VCALENDAR