BEGIN:VCALENDAR
VERSION:2.0
PRODID:-//Northwest Arkansas - ECPv6.15.17.1//NONSGML v1.0//EN
CALSCALE:GREGORIAN
METHOD:PUBLISH
X-WR-CALNAME:Northwest Arkansas
X-ORIGINAL-URL:https://northwestarkansas.org
X-WR-CALDESC:Events for Northwest Arkansas
REFRESH-INTERVAL;VALUE=DURATION:PT1H
X-Robots-Tag:noindex
X-PUBLISHED-TTL:PT1H
BEGIN:VTIMEZONE
TZID:America/Chicago
BEGIN:DAYLIGHT
TZOFFSETFROM:-0600
TZOFFSETTO:-0500
TZNAME:CDT
DTSTART:20230312T080000
END:DAYLIGHT
BEGIN:STANDARD
TZOFFSETFROM:-0500
TZOFFSETTO:-0600
TZNAME:CST
DTSTART:20231105T070000
END:STANDARD
BEGIN:DAYLIGHT
TZOFFSETFROM:-0600
TZOFFSETTO:-0500
TZNAME:CDT
DTSTART:20240310T080000
END:DAYLIGHT
BEGIN:STANDARD
TZOFFSETFROM:-0500
TZOFFSETTO:-0600
TZNAME:CST
DTSTART:20241103T070000
END:STANDARD
BEGIN:DAYLIGHT
TZOFFSETFROM:-0600
TZOFFSETTO:-0500
TZNAME:CDT
DTSTART:20250309T080000
END:DAYLIGHT
BEGIN:STANDARD
TZOFFSETFROM:-0500
TZOFFSETTO:-0600
TZNAME:CST
DTSTART:20251102T070000
END:STANDARD
BEGIN:DAYLIGHT
TZOFFSETFROM:-0600
TZOFFSETTO:-0500
TZNAME:CDT
DTSTART:20260308T080000
END:DAYLIGHT
BEGIN:STANDARD
TZOFFSETFROM:-0500
TZOFFSETTO:-0600
TZNAME:CST
DTSTART:20261101T070000
END:STANDARD
END:VTIMEZONE
BEGIN:VEVENT
DTSTART;VALUE=DATE:20251031
DTEND;VALUE=DATE:20251103
DTSTAMP:20260422T131313
CREATED:20251009T165328Z
LAST-MODIFIED:20251009T165328Z
UID:10005895-1761868800-1762127999@northwestarkansas.org
SUMMARY:Fall Diversity Weekend- Eureka Springs
DESCRIPTION:Diversity Weekend is a city-wide celebration where local businesses and organizations host a variety of diversity-themed events. From drag shows and meet-ups to advocacy events\, workshops\, and headliner performances\, there’s something for everyone. Eureka Springs transforms into a hub of activity\, embodying the diversity and spirit of Pride Parades but over a weekend-long festival. This event is our vibrant\, inclusive celebration of LGBTQ+ Pride\, set against the stunning backdrop of the Ozark Mountains during the beautiful autumn season.
URL:https://northwestarkansas.org/event/fall-diversity-weekend-eureka-springs/
LOCATION:eureka springs community center\, 44 Kingshighway\, Eureka Springs\, AR\, 72632\, United States
ATTACH;FMTTYPE=image/jpeg:https://northwestarkansas.org/wp-content/uploads/2025/10/458399458_550628403986524_1212420623939542588_n-1.jpg
END:VEVENT
BEGIN:VEVENT
DTSTART;TZID=America/Chicago:20240704T080000
DTEND;TZID=America/Chicago:20240704T130000
DTSTAMP:20260422T131313
CREATED:20240611T153022Z
LAST-MODIFIED:20240611T153022Z
UID:10003013-1720080000-1720098000@northwestarkansas.org
SUMMARY:Eureka Springs Farmers' Market Annual Independence Day Cookout with Equity Bank
DESCRIPTION:Join us for the Eureka Springs Farmers’ Market 20th Anniversary -Annual Independence Day event\, Sponsored by Equity Bank! \nBring a Blanket\, and join us for a picnic including Free Hot Dogs\, Veggie Dogs\, Watermelon\, Chips and Drinks! \nWe will have raffle items\, live music\, and family friendly activities! \nSNAP\, WIC\, and Senior Coupons are accepted at our market! When you use your benefits at the Eureka Springs Farmers Market you will additionally receive a FREE meal token to Harold’s Diner Soda Fountain and FARMacy!
URL:https://northwestarkansas.org/event/eureka-springs-farmers-market-annual-independence-day-cookout-with-equity-bank/
LOCATION:eureka springs community center\, 44 Kingshighway\, Eureka Springs\, AR\, 72632\, United States
ATTACH;FMTTYPE=image/jpeg:https://northwestarkansas.org/wp-content/uploads/2024/06/448019573_916366070291550_1284655073827875201_n.jpg
END:VEVENT
BEGIN:VEVENT
DTSTART;TZID=America/Chicago:20240323T130000
DTEND;TZID=America/Chicago:20240323T170000
DTSTAMP:20260422T131313
CREATED:20240213T215702Z
LAST-MODIFIED:20240213T215702Z
UID:10000260-1711198800-1711213200@northwestarkansas.org
SUMMARY:Eureka Springs Chocolate Lovers Festival
DESCRIPTION:Join us for the sweetest day in Eureka Springs! On Saturday\, March 23rd\, from 1 pm to 5 pm\, experience the irresistible Eureka Springs Chamber of Commerce Chocolate Lovers Festival\, now better than ever\, hosted in the Highlander Room at the Eureka Springs Community Center (44 Kingshighway).  \nDiscover over 20 specialty vendors\, featuring an array of treats from Eureka Springs’ finest restaurants and chocolate-related shops. Enjoy a selection of chocolate drinks\, mocktails\, and\, for those aged 21 and above\, exquisite chocolate libations. \nDon’t miss the opportunity to bring a piece of this chocolate paradise home with you. Some vendors will be offering their irresistible chocolate products for sale\, ensuring the sweet memories linger long after the festival ends. \nGet ready to celebrate the love for chocolate like never before. Save the date and satisfy your sweet cravings with us!\nTickets are just $25 and you can purchase them here: https://eurekaspringschamberar.chambermaster.com/eventregistration/register/6387
URL:https://northwestarkansas.org/event/eureka-springs-chocolate-lovers-festival-8/
LOCATION:eureka springs community center\, 44 Kingshighway\, Eureka Springs\, AR\, 72632\, United States
ATTACH;FMTTYPE=image/jpeg:https://northwestarkansas.org/wp-content/uploads/2024/02/2024-chocolate-festival-final-poster-7-scaled.jpg
ORGANIZER;CN="Eureka Springs Chamber of Commerce":MAILTO:marketing@EurekaSpringsChamber.com
END:VEVENT
BEGIN:VEVENT
DTSTART;TZID=America/Chicago:20240323T130000
DTEND;TZID=America/Chicago:20240323T170000
DTSTAMP:20260422T131313
CREATED:20240213T215634Z
LAST-MODIFIED:20240213T215634Z
UID:10000259-1711198800-1711213200@northwestarkansas.org
SUMMARY:Eureka Springs Chocolate Lovers Festival
DESCRIPTION:Join us for the sweetest day in Eureka Springs! On Saturday\, March 23rd\, from 1 pm to 5 pm\, experience the irresistible Eureka Springs Chamber of Commerce Chocolate Lovers Festival\, now better than ever\, hosted in the Highlander Room at the Eureka Springs Community Center (44 Kingshighway).  \nDiscover over 20 specialty vendors\, featuring an array of treats from Eureka Springs’ finest restaurants and chocolate-related shops. Enjoy a selection of chocolate drinks\, mocktails\, and\, for those aged 21 and above\, exquisite chocolate libations. \nDon’t miss the opportunity to bring a piece of this chocolate paradise home with you. Some vendors will be offering their irresistible chocolate products for sale\, ensuring the sweet memories linger long after the festival ends. \nGet ready to celebrate the love for chocolate like never before. Save the date and satisfy your sweet cravings with us!\nTickets are just $25 and you can purchase them here: https://eurekaspringschamberar.chambermaster.com/eventregistration/register/6387
URL:https://northwestarkansas.org/event/eureka-springs-chocolate-lovers-festival-7/
LOCATION:eureka springs community center\, 44 Kingshighway\, Eureka Springs\, AR\, 72632\, United States
ATTACH;FMTTYPE=image/jpeg:https://northwestarkansas.org/wp-content/uploads/2024/02/2024-chocolate-festival-final-poster-6-scaled.jpg
ORGANIZER;CN="Eureka Springs Chamber of Commerce":MAILTO:marketing@EurekaSpringsChamber.com
END:VEVENT
BEGIN:VEVENT
DTSTART;TZID=America/Chicago:20240323T130000
DTEND;TZID=America/Chicago:20240323T170000
DTSTAMP:20260422T131313
CREATED:20240213T215627Z
LAST-MODIFIED:20240213T215627Z
UID:10000258-1711198800-1711213200@northwestarkansas.org
SUMMARY:Eureka Springs Chocolate Lovers Festival
DESCRIPTION:Join us for the sweetest day in Eureka Springs! On Saturday\, March 23rd\, from 1 pm to 5 pm\, experience the irresistible Eureka Springs Chamber of Commerce Chocolate Lovers Festival\, now better than ever\, hosted in the Highlander Room at the Eureka Springs Community Center (44 Kingshighway).  \nDiscover over 20 specialty vendors\, featuring an array of treats from Eureka Springs’ finest restaurants and chocolate-related shops. Enjoy a selection of chocolate drinks\, mocktails\, and\, for those aged 21 and above\, exquisite chocolate libations. \nDon’t miss the opportunity to bring a piece of this chocolate paradise home with you. Some vendors will be offering their irresistible chocolate products for sale\, ensuring the sweet memories linger long after the festival ends. \nGet ready to celebrate the love for chocolate like never before. Save the date and satisfy your sweet cravings with us!\nTickets are just $25 and you can purchase them here: https://eurekaspringschamberar.chambermaster.com/eventregistration/register/6387
URL:https://northwestarkansas.org/event/eureka-springs-chocolate-lovers-festival-6/
LOCATION:eureka springs community center\, 44 Kingshighway\, Eureka Springs\, AR\, 72632\, United States
ATTACH;FMTTYPE=image/jpeg:https://northwestarkansas.org/wp-content/uploads/2024/02/2024-chocolate-festival-final-poster-5-scaled.jpg
ORGANIZER;CN="Eureka Springs Chamber of Commerce":MAILTO:marketing@EurekaSpringsChamber.com
END:VEVENT
BEGIN:VEVENT
DTSTART;TZID=America/Chicago:20240323T130000
DTEND;TZID=America/Chicago:20240323T170000
DTSTAMP:20260422T131313
CREATED:20240213T215555Z
LAST-MODIFIED:20240213T215555Z
UID:10000257-1711198800-1711213200@northwestarkansas.org
SUMMARY:Eureka Springs Chocolate Lovers Festival
DESCRIPTION:Join us for the sweetest day in Eureka Springs! On Saturday\, March 23rd\, from 1 pm to 5 pm\, experience the irresistible Eureka Springs Chamber of Commerce Chocolate Lovers Festival\, now better than ever\, hosted in the Highlander Room at the Eureka Springs Community Center (44 Kingshighway).  \nDiscover over 20 specialty vendors\, featuring an array of treats from Eureka Springs’ finest restaurants and chocolate-related shops. Enjoy a selection of chocolate drinks\, mocktails\, and\, for those aged 21 and above\, exquisite chocolate libations. \nDon’t miss the opportunity to bring a piece of this chocolate paradise home with you. Some vendors will be offering their irresistible chocolate products for sale\, ensuring the sweet memories linger long after the festival ends. \nGet ready to celebrate the love for chocolate like never before. Save the date and satisfy your sweet cravings with us!\nTickets are just $25 and you can purchase them here: https://eurekaspringschamberar.chambermaster.com/eventregistration/register/6387
URL:https://northwestarkansas.org/event/eureka-springs-chocolate-lovers-festival-5/
LOCATION:eureka springs community center\, 44 Kingshighway\, Eureka Springs\, AR\, 72632\, United States
ATTACH;FMTTYPE=image/jpeg:https://northwestarkansas.org/wp-content/uploads/2024/02/2024-chocolate-festival-final-poster-4-scaled.jpg
ORGANIZER;CN="Eureka Springs Chamber of Commerce":MAILTO:marketing@EurekaSpringsChamber.com
END:VEVENT
BEGIN:VEVENT
DTSTART;TZID=America/Chicago:20240323T130000
DTEND;TZID=America/Chicago:20240323T170000
DTSTAMP:20260422T131313
CREATED:20240213T215553Z
LAST-MODIFIED:20240213T215553Z
UID:10000256-1711198800-1711213200@northwestarkansas.org
SUMMARY:Eureka Springs Chocolate Lovers Festival
DESCRIPTION:Join us for the sweetest day in Eureka Springs! On Saturday\, March 23rd\, from 1 pm to 5 pm\, experience the irresistible Eureka Springs Chamber of Commerce Chocolate Lovers Festival\, now better than ever\, hosted in the Highlander Room at the Eureka Springs Community Center (44 Kingshighway).  \nDiscover over 20 specialty vendors\, featuring an array of treats from Eureka Springs’ finest restaurants and chocolate-related shops. Enjoy a selection of chocolate drinks\, mocktails\, and\, for those aged 21 and above\, exquisite chocolate libations. \nDon’t miss the opportunity to bring a piece of this chocolate paradise home with you. Some vendors will be offering their irresistible chocolate products for sale\, ensuring the sweet memories linger long after the festival ends. \nGet ready to celebrate the love for chocolate like never before. Save the date and satisfy your sweet cravings with us!\nTickets are just $25 and you can purchase them here: https://eurekaspringschamberar.chambermaster.com/eventregistration/register/6387
URL:https://northwestarkansas.org/event/eureka-springs-chocolate-lovers-festival-4/
LOCATION:eureka springs community center\, 44 Kingshighway\, Eureka Springs\, AR\, 72632\, United States
ATTACH;FMTTYPE=image/jpeg:https://northwestarkansas.org/wp-content/uploads/2024/02/2024-chocolate-festival-final-poster-3-scaled.jpg
ORGANIZER;CN="Eureka Springs Chamber of Commerce":MAILTO:marketing@EurekaSpringsChamber.com
END:VEVENT
BEGIN:VEVENT
DTSTART;TZID=America/Chicago:20240323T130000
DTEND;TZID=America/Chicago:20240323T170000
DTSTAMP:20260422T131313
CREATED:20240213T215550Z
LAST-MODIFIED:20240213T215550Z
UID:10000255-1711198800-1711213200@northwestarkansas.org
SUMMARY:Eureka Springs Chocolate Lovers Festival
DESCRIPTION:Join us for the sweetest day in Eureka Springs! On Saturday\, March 23rd\, from 1 pm to 5 pm\, experience the irresistible Eureka Springs Chamber of Commerce Chocolate Lovers Festival\, now better than ever\, hosted in the Highlander Room at the Eureka Springs Community Center (44 Kingshighway).  \nDiscover over 20 specialty vendors\, featuring an array of treats from Eureka Springs’ finest restaurants and chocolate-related shops. Enjoy a selection of chocolate drinks\, mocktails\, and\, for those aged 21 and above\, exquisite chocolate libations. \nDon’t miss the opportunity to bring a piece of this chocolate paradise home with you. Some vendors will be offering their irresistible chocolate products for sale\, ensuring the sweet memories linger long after the festival ends. \nGet ready to celebrate the love for chocolate like never before. Save the date and satisfy your sweet cravings with us!\nTickets are just $25 and you can purchase them here: https://eurekaspringschamberar.chambermaster.com/eventregistration/register/6387
URL:https://northwestarkansas.org/event/eureka-springs-chocolate-lovers-festival-3/
LOCATION:eureka springs community center\, 44 Kingshighway\, Eureka Springs\, AR\, 72632\, United States
ATTACH;FMTTYPE=image/jpeg:https://northwestarkansas.org/wp-content/uploads/2024/02/2024-chocolate-festival-final-poster-2-scaled.jpg
ORGANIZER;CN="Eureka Springs Chamber of Commerce":MAILTO:marketing@EurekaSpringsChamber.com
END:VEVENT
BEGIN:VEVENT
DTSTART;TZID=America/Chicago:20240323T130000
DTEND;TZID=America/Chicago:20240323T170000
DTSTAMP:20260422T131313
CREATED:20240213T215531Z
LAST-MODIFIED:20240213T215531Z
UID:10000254-1711198800-1711213200@northwestarkansas.org
SUMMARY:Eureka Springs Chocolate Lovers Festival
DESCRIPTION:Join us for the sweetest day in Eureka Springs! On Saturday\, March 23rd\, from 1 pm to 5 pm\, experience the irresistible Eureka Springs Chamber of Commerce Chocolate Lovers Festival\, now better than ever\, hosted in the Highlander Room at the Eureka Springs Community Center (44 Kingshighway).  \nDiscover over 20 specialty vendors\, featuring an array of treats from Eureka Springs’ finest restaurants and chocolate-related shops. Enjoy a selection of chocolate drinks\, mocktails\, and\, for those aged 21 and above\, exquisite chocolate libations. \nDon’t miss the opportunity to bring a piece of this chocolate paradise home with you. Some vendors will be offering their irresistible chocolate products for sale\, ensuring the sweet memories linger long after the festival ends. \nGet ready to celebrate the love for chocolate like never before. Save the date and satisfy your sweet cravings with us!\nTickets are just $25 and you can purchase them here: https://eurekaspringschamberar.chambermaster.com/eventregistration/register/6387
URL:https://northwestarkansas.org/event/eureka-springs-chocolate-lovers-festival-2/
LOCATION:eureka springs community center\, 44 Kingshighway\, Eureka Springs\, AR\, 72632\, United States
ATTACH;FMTTYPE=image/jpeg:https://northwestarkansas.org/wp-content/uploads/2024/02/2024-chocolate-festival-final-poster-1-scaled.jpg
ORGANIZER;CN="Eureka Springs Chamber of Commerce":MAILTO:marketing@EurekaSpringsChamber.com
END:VEVENT
BEGIN:VEVENT
DTSTART;TZID=America/Chicago:20240323T130000
DTEND;TZID=America/Chicago:20240323T170000
DTSTAMP:20260422T131313
CREATED:20240213T215514Z
LAST-MODIFIED:20240213T215514Z
UID:10000253-1711198800-1711213200@northwestarkansas.org
SUMMARY:Eureka Springs Chocolate Lovers Festival
DESCRIPTION:Join us for the sweetest day in Eureka Springs! On Saturday\, March 23rd\, from 1 pm to 5 pm\, experience the irresistible Eureka Springs Chamber of Commerce Chocolate Lovers Festival\, now better than ever\, hosted in the Highlander Room at the Eureka Springs Community Center (44 Kingshighway).  \nDiscover over 20 specialty vendors\, featuring an array of treats from Eureka Springs’ finest restaurants and chocolate-related shops. Enjoy a selection of chocolate drinks\, mocktails\, and\, for those aged 21 and above\, exquisite chocolate libations. \nDon’t miss the opportunity to bring a piece of this chocolate paradise home with you. Some vendors will be offering their irresistible chocolate products for sale\, ensuring the sweet memories linger long after the festival ends. \nGet ready to celebrate the love for chocolate like never before. Save the date and satisfy your sweet cravings with us!\nTickets are just $25 and you can purchase them here: https://eurekaspringschamberar.chambermaster.com/eventregistration/register/6387
URL:https://northwestarkansas.org/event/eureka-springs-chocolate-lovers-festival/
LOCATION:eureka springs community center\, 44 Kingshighway\, Eureka Springs\, AR\, 72632\, United States
ATTACH;FMTTYPE=image/jpeg:https://northwestarkansas.org/wp-content/uploads/2024/02/2024-chocolate-festival-final-poster-scaled.jpg
ORGANIZER;CN="Eureka Springs Chamber of Commerce":MAILTO:marketing@EurekaSpringsChamber.com
END:VEVENT
END:VCALENDAR