BEGIN:VCALENDAR
VERSION:2.0
PRODID:-//Northwest Arkansas - ECPv6.15.17.1//NONSGML v1.0//EN
CALSCALE:GREGORIAN
METHOD:PUBLISH
X-ORIGINAL-URL:https://northwestarkansas.org
X-WR-CALDESC:Events for Northwest Arkansas
REFRESH-INTERVAL;VALUE=DURATION:PT1H
X-Robots-Tag:noindex
X-PUBLISHED-TTL:PT1H
BEGIN:VTIMEZONE
TZID:America/Chicago
BEGIN:DAYLIGHT
TZOFFSETFROM:-0600
TZOFFSETTO:-0500
TZNAME:CDT
DTSTART:20240310T080000
END:DAYLIGHT
BEGIN:STANDARD
TZOFFSETFROM:-0500
TZOFFSETTO:-0600
TZNAME:CST
DTSTART:20241103T070000
END:STANDARD
BEGIN:DAYLIGHT
TZOFFSETFROM:-0600
TZOFFSETTO:-0500
TZNAME:CDT
DTSTART:20250309T080000
END:DAYLIGHT
BEGIN:STANDARD
TZOFFSETFROM:-0500
TZOFFSETTO:-0600
TZNAME:CST
DTSTART:20251102T070000
END:STANDARD
BEGIN:DAYLIGHT
TZOFFSETFROM:-0600
TZOFFSETTO:-0500
TZNAME:CDT
DTSTART:20260308T080000
END:DAYLIGHT
BEGIN:STANDARD
TZOFFSETFROM:-0500
TZOFFSETTO:-0600
TZNAME:CST
DTSTART:20261101T070000
END:STANDARD
END:VTIMEZONE
BEGIN:VEVENT
DTSTART;TZID=America/Chicago:20251011T090000
DTEND;TZID=America/Chicago:20251011T140000
DTSTAMP:20260421T034758
CREATED:20251009T165323Z
LAST-MODIFIED:20251009T165323Z
UID:10004011-1760173200-1760191200@northwestarkansas.org
SUMMARY:20th Annual Wiener or Corgi Takes All Races – “Bark to the Future”
DESCRIPTION:Event Title:\n20th Annual Wiener or Corgi Takes All Races – “Bark to the Future” \nDate & Time:\nSaturday\, October 11\, 2025\nRacer check-in begins at 9:00 AM\nActivities begin at 10:00 AM \nLocation:\n“Barksdale” (former Berksdale South golf course)\nLocated just north of Allen’s Foods and Sugar Creek Shopping Center\nBella Vista\, AR; 60 Sugar Creek Center\, Bella Vista\, AR 72714 \nEvent Description:\nJoin the Bella Vista Animal Shelter for its most popular annual fundraiser—the 20th Annual Wiener or Corgi Takes All Races! This year’s theme is “Bark to the Future\,” celebrating two decades of short-legged racing fun. Enjoy head-to-head dachshund vs. corgi races\, an all-breeds “Wanna-Be a Wiener/Corgi” division\, costume contests\, K9 demonstrations\, food trucks\, vendors\, games\, and more! \nAdmission is free for spectators.  Entrance fee $25 per racer before September 1\, 2025. Late registration after September 1\, 2025\, and October 6\, 2025\, is $50. Bring the whole family (and your dog)! \nRegistration Info:\nTo race your dog\, sign up at: \nWiener or Corgi Takes All \n \nContact:\nBella Vista Animal Shelter\ninfo@bellavista-animalshelter.org
URL:https://northwestarkansas.org/event/20th-annual-wiener-or-corgi-takes-all-races-bark-to-the-future/
LOCATION:“Barksdale” (former Berksdale South golf course)\, 60 Sugar Creek Cener\, BELLA VISTA\, AR\, 72714\, United States
ATTACH;FMTTYPE=image/jpeg:https://northwestarkansas.org/wp-content/uploads/2025/08/bttf_poster-scaled.jpg
ORGANIZER;CN="Bella Vista Animal Shelter":MAILTO:info@bellavista-animalshelter.org
END:VEVENT
END:VCALENDAR