BEGIN:VCALENDAR
VERSION:2.0
PRODID:-//Northwest Arkansas - ECPv6.15.17.1//NONSGML v1.0//EN
CALSCALE:GREGORIAN
METHOD:PUBLISH
X-WR-CALNAME:Northwest Arkansas
X-ORIGINAL-URL:https://northwestarkansas.org
X-WR-CALDESC:Events for Northwest Arkansas
REFRESH-INTERVAL;VALUE=DURATION:PT1H
X-Robots-Tag:noindex
X-PUBLISHED-TTL:PT1H
BEGIN:VTIMEZONE
TZID:America/Chicago
BEGIN:DAYLIGHT
TZOFFSETFROM:-0600
TZOFFSETTO:-0500
TZNAME:CDT
DTSTART:20250309T080000
END:DAYLIGHT
BEGIN:STANDARD
TZOFFSETFROM:-0500
TZOFFSETTO:-0600
TZNAME:CST
DTSTART:20251102T070000
END:STANDARD
BEGIN:DAYLIGHT
TZOFFSETFROM:-0600
TZOFFSETTO:-0500
TZNAME:CDT
DTSTART:20260308T080000
END:DAYLIGHT
BEGIN:STANDARD
TZOFFSETFROM:-0500
TZOFFSETTO:-0600
TZNAME:CST
DTSTART:20261101T070000
END:STANDARD
BEGIN:DAYLIGHT
TZOFFSETFROM:-0600
TZOFFSETTO:-0500
TZNAME:CDT
DTSTART:20270314T080000
END:DAYLIGHT
BEGIN:STANDARD
TZOFFSETFROM:-0500
TZOFFSETTO:-0600
TZNAME:CST
DTSTART:20271107T070000
END:STANDARD
END:VTIMEZONE
BEGIN:VEVENT
DTSTART;TZID=America/Chicago:20260228T080000
DTEND;TZID=America/Chicago:20260228T170000
DTSTAMP:20260423T010132
CREATED:20260217T194824Z
LAST-MODIFIED:20260217T194824Z
UID:10006170-1772265600-1772298000@northwestarkansas.org
SUMMARY:Trout Unlimited Banquet
DESCRIPTION:Join us for the Northwest Arkansas Trout Unlimited Chapter 514 Annual Conservation Banquet & Auction on Saturday\, February 28\, 2026\, at the Fayetteville Town Center in Fayetteville\, Arkansas.\nThis entertaining evening supports TU’s ongoing conservation and education efforts across Northwest Arkansas. Proceeds help fund vital youth education programs\, including Trout in the Classroom\, now serving 11 local schools—up from 7 last year—with more waiting to join. Additional initiatives include tailwater cleanups\, habitat improvements\, fishing line recycling tube installations\, and several exciting projects planned for 2026.\nOur primary conservation focus remains improving our Home Water—the Beaver Dam tailwater—and assisting the Arkansas Game & Fish Commission during the current White River stocking challenges.\nEvent Schedule\n5:00 p.m. – Doors open\, silent auction & raffles begin (2 cash bars available)\n6:00 p.m. – Buffet dinner service\nLive auction and raffle drawings to follow\nSpecial recognitions—come help us celebrate some outstanding supporters!\nDinner (catered by Spring Street Grill)\nBuffet-style entrées include Spring Street Grill’s famous prime rib\, with baked cod or vegetarian lasagna available by request. Sides include tossed salad\, assorted vegetables\, rolls & butter\, desserts\, and coffee/tea.\nRegistration Prices (includes dinner):\nIndividual Adult – $75\nCouple (spouse/significant other) – $125\nYouth (16 & under) – $20\nRainbow Trophy Table (seats 4) – $450 | Includes takeaway swag\nBrown Trophy Table (seats 8) – $800 | Includes Rainbow swag and more\nSpecial youth raffle for attendees 16 and under\nFree parking in the Town Center garage \nAll are welcome—bring your family and friends!\nTickets can be purchased by clicking the “GET TICKETS” button on the Eventgroove link.
URL:https://northwestarkansas.org/event/trout-unlimited-banquet/
LOCATION:Fayetteville Town Center\, 15 W. Mountain St.\, Fayetteville\, AR\, 72701\, United States
ATTACH;FMTTYPE=image/png:https://northwestarkansas.org/wp-content/uploads/2026/01/IMG_1223.png
END:VEVENT
END:VCALENDAR