BEGIN:VCALENDAR
VERSION:2.0
PRODID:-//Northwest Arkansas - ECPv6.15.17.1//NONSGML v1.0//EN
CALSCALE:GREGORIAN
METHOD:PUBLISH
X-WR-CALNAME:Northwest Arkansas
X-ORIGINAL-URL:https://northwestarkansas.org
X-WR-CALDESC:Events for Northwest Arkansas
REFRESH-INTERVAL;VALUE=DURATION:PT1H
X-Robots-Tag:noindex
X-PUBLISHED-TTL:PT1H
BEGIN:VTIMEZONE
TZID:America/Chicago
BEGIN:DAYLIGHT
TZOFFSETFROM:-0600
TZOFFSETTO:-0500
TZNAME:CDT
DTSTART:20230312T080000
END:DAYLIGHT
BEGIN:STANDARD
TZOFFSETFROM:-0500
TZOFFSETTO:-0600
TZNAME:CST
DTSTART:20231105T070000
END:STANDARD
BEGIN:DAYLIGHT
TZOFFSETFROM:-0600
TZOFFSETTO:-0500
TZNAME:CDT
DTSTART:20240310T080000
END:DAYLIGHT
BEGIN:STANDARD
TZOFFSETFROM:-0500
TZOFFSETTO:-0600
TZNAME:CST
DTSTART:20241103T070000
END:STANDARD
BEGIN:DAYLIGHT
TZOFFSETFROM:-0600
TZOFFSETTO:-0500
TZNAME:CDT
DTSTART:20250309T080000
END:DAYLIGHT
BEGIN:STANDARD
TZOFFSETFROM:-0500
TZOFFSETTO:-0600
TZNAME:CST
DTSTART:20251102T070000
END:STANDARD
END:VTIMEZONE
BEGIN:VEVENT
DTSTART;TZID=America/Chicago:20240704T120000
DTEND;TZID=America/Chicago:20240704T130000
DTSTAMP:20260424T020320
CREATED:20240611T145445Z
LAST-MODIFIED:20240611T145445Z
UID:10003012-1720094400-1720098000@northwestarkansas.org
SUMMARY:Come Celebrate Eureka Springs' Birthday!
DESCRIPTION:Come celebrate your favorite town’s birthday! Eureka Springs is turning 145 years old this July 4th! 🎉  \nJoin in on the celebrations July 4th from 12-2pm at the Basin Spring Park. We will have a kids splash zone\, Eureka Bingo & Trivia\, return trip giveaway\, Birthday cake for all\, taste of Eureka food vendors\, and more! 🎂 \nDon’t forget to head over to Lake Leatherwood after for some family fun and a firework show later that evening. 🎆
URL:https://northwestarkansas.org/event/come-celebrate-eureka-springs-birthday/
LOCATION:Basin Spring Park\, 4 Spring St.\, Eureka Springs\, AR\, 72632\, United States
ATTACH;FMTTYPE=image/jpeg:https://northwestarkansas.org/wp-content/uploads/2024/06/448198328_847401437419701_5734878958294132115_n.jpg
END:VEVENT
BEGIN:VEVENT
DTSTART;TZID=America/Chicago:20240705T170000
DTEND;TZID=America/Chicago:20240705T213000
DTSTAMP:20260424T020320
CREATED:20240502T183103Z
LAST-MODIFIED:20240502T183103Z
UID:10001028-1720198800-1720215000@northwestarkansas.org
SUMMARY:Holiday Island Independence Day Hurrah
DESCRIPTION:A July 4th celebration in Holiday Island\, just minutes from downtown Eureka Springs! Enjoy family-friendly fun with live music\, vendors\, food\, games\, and activities. The day culminates in a spectacular fireworks display over the island. Event will be held at the Holiday Island Recreation Center starting at 5pm and last till after the fireworks display.
URL:https://northwestarkansas.org/event/holiday-island-independence-day-hurrah/
LOCATION:Holiday Island Rec Center\, 13 Buckskin Ln.\, Holiday Island\, AR\, 72631\, United States
ATTACH;FMTTYPE=image/jpeg:https://northwestarkansas.org/wp-content/uploads/2024/05/IMG_7382.jpg
END:VEVENT
END:VCALENDAR