BEGIN:VCALENDAR
VERSION:2.0
PRODID:-//Northwest Arkansas - ECPv6.15.17.1//NONSGML v1.0//EN
CALSCALE:GREGORIAN
METHOD:PUBLISH
X-WR-CALNAME:Northwest Arkansas
X-ORIGINAL-URL:https://northwestarkansas.org
X-WR-CALDESC:Events for Northwest Arkansas
REFRESH-INTERVAL;VALUE=DURATION:PT1H
X-Robots-Tag:noindex
X-PUBLISHED-TTL:PT1H
BEGIN:VTIMEZONE
TZID:America/Chicago
BEGIN:DAYLIGHT
TZOFFSETFROM:-0600
TZOFFSETTO:-0500
TZNAME:CDT
DTSTART:20230312T080000
END:DAYLIGHT
BEGIN:STANDARD
TZOFFSETFROM:-0500
TZOFFSETTO:-0600
TZNAME:CST
DTSTART:20231105T070000
END:STANDARD
BEGIN:DAYLIGHT
TZOFFSETFROM:-0600
TZOFFSETTO:-0500
TZNAME:CDT
DTSTART:20240310T080000
END:DAYLIGHT
BEGIN:STANDARD
TZOFFSETFROM:-0500
TZOFFSETTO:-0600
TZNAME:CST
DTSTART:20241103T070000
END:STANDARD
BEGIN:DAYLIGHT
TZOFFSETFROM:-0600
TZOFFSETTO:-0500
TZNAME:CDT
DTSTART:20250309T080000
END:DAYLIGHT
BEGIN:STANDARD
TZOFFSETFROM:-0500
TZOFFSETTO:-0600
TZNAME:CST
DTSTART:20251102T070000
END:STANDARD
END:VTIMEZONE
BEGIN:VEVENT
DTSTART;VALUE=DATE:20240906
DTEND;VALUE=DATE:20240908
DTSTAMP:20260425T210837
CREATED:20240411T165755Z
LAST-MODIFIED:20240411T165755Z
UID:10000938-1725580800-1725753599@northwestarkansas.org
SUMMARY:53rd Annual Eureka Springs Classic Car Show & Shine Weekend
DESCRIPTION:Join us for the 53rd Annual Classic Car Show and Shine Weekend\, hosted by the Eureka Springs Chamber of Commerce. This year marks a new name for our beloved event\, yet it remains the longest-running car show in the Ozarks\, proudly showcasing vintage automobiles and timeless classics. Mark your calendars for September 6th and 7th for a weekend filled with automotive nostalgia and camaraderie. \nKick off the festivities on Friday night with a warm welcome and delectable dinner at Pauly’s\, setting the stage for an unforgettable weekend. As the sun sets\, rev your engines for a scenic cruise\, taking in the picturesque beauty of our surroundings. \nSaturday brings the main event – the judged car show. Bring your prized wheels and put them on display for all to admire. From meticulously restored antiques to roaring muscle cars\, all vehicles are welcome to participate. The day will be filled with excitement as enthusiasts gather to marvel at the craftsmanship and design of these automotive treasures. \nFollowing the show\, join us for the awards ceremony\, where standout cars will be recognized for their excellence. Then\, gear up for a parade through historic downtown\, a spectacle not to be missed as classic cars roll through the charming streets of Eureka Springs. \nRegistration is open now\, with a special rate of $25 available until July 31st for the first 150 cars. After that\, registration is $30. Secure your spot early and be a part of this iconic event. For more information or to register\, visit AntiqueAutoFest.com. \nWhether you’re a car enthusiast or simply appreciate the beauty of vintage automobiles\, the Eureka Springs Chamber of Commerce invites you to join us for a weekend of fun\, fellowship\, and the timeless allure of classic cars. Don’t miss out on this opportunity to be a part of automotive history. We look forward to seeing you there!
URL:https://northwestarkansas.org/event/53rd-annual-eureka-springs-classic-car-show-shine-weekend/
LOCATION:Eureka Springs\, 1303 CR 204\, Eureka Springs\, AR\, 72632\, United States
ATTACH;FMTTYPE=image/jpeg:https://northwestarkansas.org/wp-content/uploads/2024/04/EventPhotoFull_revised-logo-classic-car-show-and-shine-2024-jpg.jpg
END:VEVENT
BEGIN:VEVENT
DTSTART;VALUE=DATE:20240912
DTEND;VALUE=DATE:20240917
DTSTAMP:20260425T210837
CREATED:20240411T170047Z
LAST-MODIFIED:20240411T170047Z
UID:10000939-1726099200-1726531199@northwestarkansas.org
SUMMARY:Slinging in the Ozarks - Eureka Springs
DESCRIPTION:Come ride in the beautiful Ozarks . Take a ride on the moonshiners trail. ride the Ozark dragon . or take the peel ferry and cruise on up to Table Rock lake come and enjoy what the Ozarks have to offer. \nlodging info is as follows:\nOzarka Lodge Eureka Springs\n479-253-8992\nPlease mention you are coming in for the sling shot weekend event. This year we had seven states represented. This is a ride weekend event ( no vendors ).
URL:https://northwestarkansas.org/event/slinging-in-the-ozarks-eureka-springs/
LOCATION:Eureka Springs\, 1303 CR 204\, Eureka Springs\, AR\, 72632\, United States
ATTACH;FMTTYPE=image/jpeg:https://northwestarkansas.org/wp-content/uploads/2024/04/EventPhotoFull_402652061_738701918281540_3502373739000908798_n.jpg
END:VEVENT
END:VCALENDAR