BEGIN:VCALENDAR
VERSION:2.0
PRODID:-//Northwest Arkansas - ECPv6.15.17.1//NONSGML v1.0//EN
CALSCALE:GREGORIAN
METHOD:PUBLISH
X-ORIGINAL-URL:https://northwestarkansas.org
X-WR-CALDESC:Events for Northwest Arkansas
REFRESH-INTERVAL;VALUE=DURATION:PT1H
X-Robots-Tag:noindex
X-PUBLISHED-TTL:PT1H
BEGIN:VTIMEZONE
TZID:America/Chicago
BEGIN:DAYLIGHT
TZOFFSETFROM:-0600
TZOFFSETTO:-0500
TZNAME:CDT
DTSTART:20240310T080000
END:DAYLIGHT
BEGIN:STANDARD
TZOFFSETFROM:-0500
TZOFFSETTO:-0600
TZNAME:CST
DTSTART:20241103T070000
END:STANDARD
BEGIN:DAYLIGHT
TZOFFSETFROM:-0600
TZOFFSETTO:-0500
TZNAME:CDT
DTSTART:20250309T080000
END:DAYLIGHT
BEGIN:STANDARD
TZOFFSETFROM:-0500
TZOFFSETTO:-0600
TZNAME:CST
DTSTART:20251102T070000
END:STANDARD
BEGIN:DAYLIGHT
TZOFFSETFROM:-0600
TZOFFSETTO:-0500
TZNAME:CDT
DTSTART:20260308T080000
END:DAYLIGHT
BEGIN:STANDARD
TZOFFSETFROM:-0500
TZOFFSETTO:-0600
TZNAME:CST
DTSTART:20261101T070000
END:STANDARD
END:VTIMEZONE
BEGIN:VEVENT
DTSTART;TZID=America/Chicago:20251004T180000
DTEND;TZID=America/Chicago:20251004T200000
DTSTAMP:20260423T160011
CREATED:20240411T165152Z
LAST-MODIFIED:20240411T165152Z
UID:10000936-1759600800-1759608000@northwestarkansas.org
SUMMARY:Drumming in the Park - Eureka Springs
DESCRIPTION:Come join us to make some noise\, dance\, and have a great evening in Basin Spring Park. Join in the fun! Bring a drum or anything else that makes noise and join the drum circle with Angelo and his troupe of drummers and dancers.
URL:https://northwestarkansas.org/event/drumming-in-the-park-eureka-springs-2/2025-10-04/
LOCATION:Downtown Eureka Springs\, 67 Main St.\, Eureka Springs\, AR\, 72632\, United States
ATTACH;FMTTYPE=image/jpeg:https://northwestarkansas.org/wp-content/uploads/2024/04/EventPhotoFull_drumming-in-the-park-2.jpg
GEO:36.400592;-93.739641
X-APPLE-STRUCTURED-LOCATION;VALUE=URI;X-ADDRESS=Downtown Eureka Springs 67 Main St. Eureka Springs AR 72632 United States;X-APPLE-RADIUS=500;X-TITLE=67 Main St.:geo:-93.739641,36.400592
END:VEVENT
BEGIN:VEVENT
DTSTART;TZID=America/Chicago:20251012T130000
DTEND;TZID=America/Chicago:20251012T160000
DTSTAMP:20260423T160011
CREATED:20251009T165322Z
LAST-MODIFIED:20251009T165322Z
UID:10004006-1760274000-1760284800@northwestarkansas.org
SUMMARY:Deepavali Art Studio Special Chai Time with Crystal Bridges
DESCRIPTION:Deepavali Art Studio\nSpecial Chai Time with Crystal Bridges \nRa-Ve Cultural Foundation\, in collaboration with Crystal Bridges Museum of American Art\, is excited to celebrate Deepavali (also called Diwali)\, the Indian festival of lights.  \nTogether\, we’ll watch the story of Deepavali through a live “Yakshagana” performance\, a traditional Indian theater style that combines music\, dance\, and storytelling. We’ll also get creative with hands-on activities of traditional Indian “Diya” (lamp) with clay and other festive Indian crafts and designs to share associated with the holiday. \nLocal artists from our community will join us\, and we’re inviting all school kids and families from across Northwest Arkansas to take part. As always\, we’ll share some sweet treats to mark the occasion. \nEvent Details:\nDate: Sunday\, October 12\, 2025\nTime: 1 PM – 4 PM\nVenue: Crystal Bridges Museum of American Art\, Great Hall\nLocation:  600 Museum Way\, Bentonville\, AR 72712 \nThis event is free and open to all. We hope you’ll join us for an afternoon of culture\, creativity\, and community spirit. \nFor more information or need help\, please write to info@ra-veculturalfoundation.org \n#RaVeCulturalFoundation #NWAChaiTime #CrystalBridges #CelebrateWithRaVe #FreeEvent #DeepavaliCelebration #IndianCultureNWA #CulturalPerformance  #NWAEvents
URL:https://northwestarkansas.org/event/deepavali-art-studio-special-chai-time-with-crystal-bridges/
LOCATION:Crystal Bridges\, 600 Museum Way\, Bentonville\, AR\, 72712\, United States
ATTACH;FMTTYPE=image/jpeg:https://northwestarkansas.org/wp-content/uploads/2025/08/1754670866-Chai-Time-2025Diwali-Event-Free-For-all-Ages-1-scaled.jpg
ORGANIZER;CN="Ra Ve Cultural Foundation":MAILTO:info@ra-veculturalfoundation.org
END:VEVENT
BEGIN:VEVENT
DTSTART;TZID=America/Chicago:20251025T190000
DTEND;TZID=America/Chicago:20251025T200000
DTSTAMP:20260423T160011
CREATED:20251029T151328Z
LAST-MODIFIED:20251029T151328Z
UID:10006022-1761418800-1761422400@northwestarkansas.org
SUMMARY:Center Stage Comedy: Monique Marvez is No Joke!
DESCRIPTION:Monique Marvez grew up in Miami. Her journey into the world of comedy began in the vibrant stand-up scene of the 90s. Her Cuban American heritage and keen observations of life provided a rich tapestry of material that resonated with a diverse audience. She quickly rose to prominence\, earning a reputation for her fearless and authentic comedic style. \nMonique Marvez’s talent has led her to numerous television appearances\, including Comedy Central\, Showtime\, and HBO. She is also a prolific writer\, contributing to various comedy specials and shows\, showcasing her versatility and creativity. Beyond the stage and screen\, Monique is a powerful voice in radio\, having hosted her own show and appeared as a regular guest on popular radio programs. Her comedy is not just about making people laugh; it’s about making them think. Monique tackles topics ranging from relationships and social issues to personal growth and self-discovery\, all delivered with her signature blend of humor and heart. Her ability to connect with audiences on a deep level has earned her a loyal following and critical acclaim. Monique’s DryBar special was the channel’s #1 released in 2024 with 52 million views on their site alone and hundreds of millions of views on platforms worldwide.
URL:https://northwestarkansas.org/event/center-stage-comedy-monique-marvez-is-no-joke/
LOCATION:Jones Center\, 922 E. Emma Avenue\, Springdale
ATTACH;FMTTYPE=image/png:https://northwestarkansas.org/wp-content/uploads/2025/10/MoniqueMarves_Yodeck.png
END:VEVENT
END:VCALENDAR