BEGIN:VCALENDAR
VERSION:2.0
PRODID:-//Northwest Arkansas - ECPv6.15.17.1//NONSGML v1.0//EN
CALSCALE:GREGORIAN
METHOD:PUBLISH
X-ORIGINAL-URL:https://northwestarkansas.org
X-WR-CALDESC:Events for Northwest Arkansas
REFRESH-INTERVAL;VALUE=DURATION:PT1H
X-Robots-Tag:noindex
X-PUBLISHED-TTL:PT1H
BEGIN:VTIMEZONE
TZID:America/Chicago
BEGIN:DAYLIGHT
TZOFFSETFROM:-0600
TZOFFSETTO:-0500
TZNAME:CDT
DTSTART:20230312T080000
END:DAYLIGHT
BEGIN:STANDARD
TZOFFSETFROM:-0500
TZOFFSETTO:-0600
TZNAME:CST
DTSTART:20231105T070000
END:STANDARD
BEGIN:DAYLIGHT
TZOFFSETFROM:-0600
TZOFFSETTO:-0500
TZNAME:CDT
DTSTART:20240310T080000
END:DAYLIGHT
BEGIN:STANDARD
TZOFFSETFROM:-0500
TZOFFSETTO:-0600
TZNAME:CST
DTSTART:20241103T070000
END:STANDARD
BEGIN:DAYLIGHT
TZOFFSETFROM:-0600
TZOFFSETTO:-0500
TZNAME:CDT
DTSTART:20250309T080000
END:DAYLIGHT
BEGIN:STANDARD
TZOFFSETFROM:-0500
TZOFFSETTO:-0600
TZNAME:CST
DTSTART:20251102T070000
END:STANDARD
END:VTIMEZONE
BEGIN:VEVENT
DTSTART;TZID=America/Chicago:20240504T180000
DTEND;TZID=America/Chicago:20240504T200000
DTSTAMP:20260424T142723
CREATED:20240409T221050Z
LAST-MODIFIED:20240409T221050Z
UID:10000776-1714845600-1714852800@northwestarkansas.org
SUMMARY:Drumming in the Park
DESCRIPTION:Come join us to make some noise\, dance\, and have a great evening in Basin Spring Park. Join in the fun! Bring a drum or anything else that makes noise and join the drum circle with Angelo and his troupe of drummers and dancers.. The rest of the DiP dates are as follows: May 4th\, June 8th (moved to ES Music Park)\, July 6th\, Aug. 3rd\, Sept. 7th\, Oct. 5th
URL:https://northwestarkansas.org/event/drumming-in-the-park/
LOCATION:Downtown Eureka Springs\, 67 Main St.\, Eureka Springs\, AR\, 72632\, United States
ATTACH;FMTTYPE=image/jpeg:https://northwestarkansas.org/wp-content/uploads/2024/04/EventPhotoFull_drumming-in-the-park.jpg
GEO:36.400592;-93.739641
X-APPLE-STRUCTURED-LOCATION;VALUE=URI;X-ADDRESS=Downtown Eureka Springs 67 Main St. Eureka Springs AR 72632 United States;X-APPLE-RADIUS=500;X-TITLE=67 Main St.:geo:-93.739641,36.400592
END:VEVENT
BEGIN:VEVENT
DTSTART;TZID=America/Chicago:20240510T190000
DTEND;TZID=America/Chicago:20240511T000000
DTSTAMP:20260424T142723
CREATED:20240507T203108Z
LAST-MODIFIED:20240507T203108Z
UID:10001032-1715367600-1715385600@northwestarkansas.org
SUMMARY:Social Dance: En Fuego Dance and Fitness
DESCRIPTION:Grab your dancing shoes and get ready to experience a night full of dancing! In collaboration with En Fuego Dance and Fitness\, learn Salsa\, Bachata\, and Cumbia with an evening of Latin dancing in the museum’s Great Hall! \nThe doors open and the fun starts with three 20-minute beginner lessons on Salsa\, Bachata\, and Cumbia at 7 p.m. with host Claudia Aguilar. You don’t need a partner to join\, as dancers rotate during the class. The class will be followed by music and social dancing from 8:00 p.m. to 12 a.m. \nIn Honor of the Special Exhibit:  Exquisite Creatures the theme of the night is Kaleidoscope Night; Dress up in your brightest colors \nSee you on the dance floor! \nAdvanced tickets are $15 ($12.50 for members) until May 7\, reserve your spot online or with Guest Services at (479) 657-2335 today.\nTickets purchased after May 7 are $20 ($18 for members).
URL:https://northwestarkansas.org/event/social-dance-en-fuego-dance-and-fitness/
LOCATION:Crystal Bridges\, 600 Museum Way\, Bentonville\, AR\, 72712\, United States
ATTACH;FMTTYPE=image/png:https://northwestarkansas.org/wp-content/uploads/2024/05/image-2.png
END:VEVENT
BEGIN:VEVENT
DTSTART;TZID=America/Chicago:20240511T130000
DTEND;TZID=America/Chicago:20240511T160000
DTSTAMP:20260424T142723
CREATED:20240430T190540Z
LAST-MODIFIED:20240430T190540Z
UID:10001023-1715432400-1715443200@northwestarkansas.org
SUMMARY:Second Saturdays: AAPI Heritage Month
DESCRIPTION:Make museum memories every second Saturday of the month with an afternoon of artmaking and in-gallery fun! \nThis month\, we are celebrating Asian American and Pacific Islander Heritage Month by recognizing the contributions of Asian American and Pacific Islander American artists in our museum. We will be highlighting the work Silver Upper White River by artist Maya Lin. Drop into the galleries to enjoy activities created by Walmart’s Asian Pacific Associates Network (APAN) and University of Arkansas students! You’ll chat with museum educators as they guide you through a fun hands-on activity inspired by the artwork in the galleries\, then head to the studios for an artmaking activity that you can take home. \nSee you there! \nFree\, no registration required. Drop in the galleries at 1\, 2\, or 3 p.m.
URL:https://northwestarkansas.org/event/second-saturdays-aapi-heritage-month/
LOCATION:Crystal Bridges\, 600 Museum Way\, Bentonville\, AR\, 72712\, United States
ATTACH;FMTTYPE=image/jpeg:https://northwestarkansas.org/wp-content/uploads/2024/04/Silver-Upper-White-River.jpeg
END:VEVENT
BEGIN:VEVENT
DTSTART;TZID=America/Chicago:20240529T130000
DTEND;TZID=America/Chicago:20240529T200000
DTSTAMP:20260424T142723
CREATED:20240528T180148Z
LAST-MODIFIED:20240528T180148Z
UID:10001078-1716987600-1717012800@northwestarkansas.org
SUMMARY:Canopy NWA Kids Art Show: Celebrating Identity Through Art
DESCRIPTION:Canopy NWA is excited to announce that several refugee students from local school districts will be showcasing their incredible artwork in an exhibition on Wednesday\, May 29th. This event is a wonderful opportunity for the community to come out and support these talented young artists. \nAdmission: Free and open to the public \nSpecial Artist Talks: 6:00 pm \nThis family-friendly event will feature a stunning collection of artworks created by children from the Canopy NWA community. At 6:00 pm\, join us for special artist talks where you can hear directly from the young creators about their inspirations and techniques. \nWe look forward to seeing you there and celebrating the creativity and resilience of our young artists!
URL:https://northwestarkansas.org/event/canopy-nwa-kids-art-show-celebrating-identity-through-art/
LOCATION:The Medium\, 214 S. Main Street\, Springdale\, WA\, 72762\, United States
ATTACH;FMTTYPE=image/png:https://northwestarkansas.org/wp-content/uploads/2024/05/Youth-Services-Art-Show-24-Facebook-Post.png
END:VEVENT
END:VCALENDAR