BEGIN:VCALENDAR
VERSION:2.0
PRODID:-//Northwest Arkansas - ECPv6.15.17.1//NONSGML v1.0//EN
CALSCALE:GREGORIAN
METHOD:PUBLISH
X-ORIGINAL-URL:https://northwestarkansas.org
X-WR-CALDESC:Events for Northwest Arkansas
REFRESH-INTERVAL;VALUE=DURATION:PT1H
X-Robots-Tag:noindex
X-PUBLISHED-TTL:PT1H
BEGIN:VTIMEZONE
TZID:America/Chicago
BEGIN:DAYLIGHT
TZOFFSETFROM:-0600
TZOFFSETTO:-0500
TZNAME:CDT
DTSTART:20230312T080000
END:DAYLIGHT
BEGIN:STANDARD
TZOFFSETFROM:-0500
TZOFFSETTO:-0600
TZNAME:CST
DTSTART:20231105T070000
END:STANDARD
BEGIN:DAYLIGHT
TZOFFSETFROM:-0600
TZOFFSETTO:-0500
TZNAME:CDT
DTSTART:20240310T080000
END:DAYLIGHT
BEGIN:STANDARD
TZOFFSETFROM:-0500
TZOFFSETTO:-0600
TZNAME:CST
DTSTART:20241103T070000
END:STANDARD
BEGIN:DAYLIGHT
TZOFFSETFROM:-0600
TZOFFSETTO:-0500
TZNAME:CDT
DTSTART:20250309T080000
END:DAYLIGHT
BEGIN:STANDARD
TZOFFSETFROM:-0500
TZOFFSETTO:-0600
TZNAME:CST
DTSTART:20251102T070000
END:STANDARD
END:VTIMEZONE
BEGIN:VEVENT
DTSTART;TZID=America/Chicago:20240410T180000
DTEND;TZID=America/Chicago:20240410T193000
DTSTAMP:20260424T155053
CREATED:20240312T161316Z
LAST-MODIFIED:20240312T161316Z
UID:10000705-1712772000-1712777400@northwestarkansas.org
SUMMARY:Home Is Where the Hardship Is
DESCRIPTION:Circles NWA presents\, “Home Is Where the Hardship Is: The Stress of Housing in Arkansas.” We all know the headlines about housing: not affordable\, not available\, rent hikes\, and eviction notices. Join us as we go beyond the headlines to explore the real experiences of individuals and families facing the stress of housing in Arkansas. Together\, we’ll make visible what is often invisible in the housing conversation. Creating real change requires a community committed to the change. Come be part of a community committed to reviving the heart in Arkansas housing.
URL:https://northwestarkansas.org/event/home-is-where-the-hardship-is/
LOCATION:Fayetteville Public Library\, 401 W Mountain St\, Fayetteville\, AR\, 72701\, United States
ATTACH;FMTTYPE=image/png:https://northwestarkansas.org/wp-content/uploads/2024/03/Eventbrite_FINAL-.png
ORGANIZER;CN="Circles NWA":MAILTO:ana@circlesnwa.org
END:VEVENT
END:VCALENDAR