BEGIN:VCALENDAR
VERSION:2.0
PRODID:-//Northwest Arkansas - ECPv6.15.17.1//NONSGML v1.0//EN
CALSCALE:GREGORIAN
METHOD:PUBLISH
X-WR-CALNAME:Northwest Arkansas
X-ORIGINAL-URL:https://northwestarkansas.org
X-WR-CALDESC:Events for Northwest Arkansas
REFRESH-INTERVAL;VALUE=DURATION:PT1H
X-Robots-Tag:noindex
X-PUBLISHED-TTL:PT1H
BEGIN:VTIMEZONE
TZID:America/Chicago
BEGIN:DAYLIGHT
TZOFFSETFROM:-0600
TZOFFSETTO:-0500
TZNAME:CDT
DTSTART:20250309T080000
END:DAYLIGHT
BEGIN:STANDARD
TZOFFSETFROM:-0500
TZOFFSETTO:-0600
TZNAME:CST
DTSTART:20251102T070000
END:STANDARD
BEGIN:DAYLIGHT
TZOFFSETFROM:-0600
TZOFFSETTO:-0500
TZNAME:CDT
DTSTART:20260308T080000
END:DAYLIGHT
BEGIN:STANDARD
TZOFFSETFROM:-0500
TZOFFSETTO:-0600
TZNAME:CST
DTSTART:20261101T070000
END:STANDARD
BEGIN:DAYLIGHT
TZOFFSETFROM:-0600
TZOFFSETTO:-0500
TZNAME:CDT
DTSTART:20270314T080000
END:DAYLIGHT
BEGIN:STANDARD
TZOFFSETFROM:-0500
TZOFFSETTO:-0600
TZNAME:CST
DTSTART:20271107T070000
END:STANDARD
END:VTIMEZONE
BEGIN:VEVENT
DTSTART;TZID=America/Chicago:20260502T140000
DTEND;TZID=America/Chicago:20260502T150000
DTSTAMP:20260419T142027
CREATED:20260217T194644Z
LAST-MODIFIED:20260217T194644Z
UID:10006548-1777730400-1777734000@northwestarkansas.org
SUMMARY:The 2026 ARTrageous Parade!
DESCRIPTION:The ARTrageous Parade\, hosted by ESSA\, is a joyful celebration of art\, imagination\, and community in downtown Eureka Springs. On Saturday\, May 2nd at 2 PM\, the streets will come alive with colorful costumes\, creative floats\, giant puppets\, music\, and handmade surprises around every corner.  \nArtists\, families\, makers\, and community members of all ages are invited to join the parade and help transform downtown into a moving masterpiece of shared creativity.  \nSign up to participate: https://docs.google.com/forms/d/1UIFNsJcrZLrSZmVNDorkK7Kc4A6b5kyLQGFxfOn7K2E/edit \nRSVP on our Facebook Event page: https://www.facebook.com/share/16zb2ZoqKf/
URL:https://northwestarkansas.org/event/the-2026-artrageous-parade/
LOCATION:Downtown Eureka Springs\, 67 Main St.\, Eureka Springs\, AR\, 72632\, United States
ATTACH;FMTTYPE=image/jpeg:https://northwestarkansas.org/wp-content/uploads/2026/02/FB_EventPage_Banner-01.jpg
ORGANIZER;CN="Eureka Springs School of the Arts (ESSA)":MAILTO:marketing@essa-art.org
GEO:36.400592;-93.739641
X-APPLE-STRUCTURED-LOCATION;VALUE=URI;X-ADDRESS=Downtown Eureka Springs 67 Main St. Eureka Springs AR 72632 United States;X-APPLE-RADIUS=500;X-TITLE=67 Main St.:geo:-93.739641,36.400592
END:VEVENT
BEGIN:VEVENT
DTSTART;TZID=America/Chicago:20260502T150000
DTEND;TZID=America/Chicago:20260502T180000
DTSTAMP:20260419T142027
CREATED:20260415T164725Z
LAST-MODIFIED:20260415T164725Z
UID:10007720-1777734000-1777744800@northwestarkansas.org
SUMMARY:George Dombek Spring 2026 Open Studio
DESCRIPTION:George Dombek is holding his annual spring Open Studio from 3:00 to 6:00 p.m. on the weekends of April 25–26\, May 2–3\, and May 9–10\, 2026\, at 844 Blue Springs Road\, Fayetteville\, Arkansas.\nDombek’s work is in museums and private collections around the world\, as well as in Arkansas collections such as Crystal Bridges Museum of American Art\, the Arkansas Museum of Fine Arts\, and the Arts and Science Center for Southeast Arkansas. He has also created striking art glass installations\, most notably the windows at The Preacher’s Son restaurant in Bentonville.
URL:https://northwestarkansas.org/event/george-dombek-spring-2026-open-studio/2026-05-02/
LOCATION:George Dombek Studio and Gallery\, 844 Blue Springs Rd\, Fayetteville\, AR\, 72703\, United States
ATTACH;FMTTYPE=image/jpeg:https://northwestarkansas.org/wp-content/uploads/2026/04/ae-2928-20x20-bike-in-tree-scaled.jpg
ORGANIZER;CN="George Dombek":MAILTO:dombek@georgedombek.com
END:VEVENT
BEGIN:VEVENT
DTSTART;TZID=America/Chicago:20260503T150000
DTEND;TZID=America/Chicago:20260503T180000
DTSTAMP:20260419T142027
CREATED:20260415T164725Z
LAST-MODIFIED:20260415T164725Z
UID:10007721-1777820400-1777831200@northwestarkansas.org
SUMMARY:George Dombek Spring 2026 Open Studio
DESCRIPTION:George Dombek is holding his annual spring Open Studio from 3:00 to 6:00 p.m. on the weekends of April 25–26\, May 2–3\, and May 9–10\, 2026\, at 844 Blue Springs Road\, Fayetteville\, Arkansas.\nDombek’s work is in museums and private collections around the world\, as well as in Arkansas collections such as Crystal Bridges Museum of American Art\, the Arkansas Museum of Fine Arts\, and the Arts and Science Center for Southeast Arkansas. He has also created striking art glass installations\, most notably the windows at The Preacher’s Son restaurant in Bentonville.
URL:https://northwestarkansas.org/event/george-dombek-spring-2026-open-studio/2026-05-03/
LOCATION:George Dombek Studio and Gallery\, 844 Blue Springs Rd\, Fayetteville\, AR\, 72703\, United States
ATTACH;FMTTYPE=image/jpeg:https://northwestarkansas.org/wp-content/uploads/2026/04/ae-2928-20x20-bike-in-tree-scaled.jpg
ORGANIZER;CN="George Dombek":MAILTO:dombek@georgedombek.com
END:VEVENT
BEGIN:VEVENT
DTSTART;TZID=America/Chicago:20260509T150000
DTEND;TZID=America/Chicago:20260509T180000
DTSTAMP:20260419T142027
CREATED:20260415T164725Z
LAST-MODIFIED:20260415T164725Z
UID:10007727-1778338800-1778349600@northwestarkansas.org
SUMMARY:George Dombek Spring 2026 Open Studio
DESCRIPTION:George Dombek is holding his annual spring Open Studio from 3:00 to 6:00 p.m. on the weekends of April 25–26\, May 2–3\, and May 9–10\, 2026\, at 844 Blue Springs Road\, Fayetteville\, Arkansas.\nDombek’s work is in museums and private collections around the world\, as well as in Arkansas collections such as Crystal Bridges Museum of American Art\, the Arkansas Museum of Fine Arts\, and the Arts and Science Center for Southeast Arkansas. He has also created striking art glass installations\, most notably the windows at The Preacher’s Son restaurant in Bentonville.
URL:https://northwestarkansas.org/event/george-dombek-spring-2026-open-studio/2026-05-09/
LOCATION:George Dombek Studio and Gallery\, 844 Blue Springs Rd\, Fayetteville\, AR\, 72703\, United States
ATTACH;FMTTYPE=image/jpeg:https://northwestarkansas.org/wp-content/uploads/2026/04/ae-2928-20x20-bike-in-tree-scaled.jpg
ORGANIZER;CN="George Dombek":MAILTO:dombek@georgedombek.com
END:VEVENT
BEGIN:VEVENT
DTSTART;TZID=America/Chicago:20260510T150000
DTEND;TZID=America/Chicago:20260510T180000
DTSTAMP:20260419T142027
CREATED:20260415T164725Z
LAST-MODIFIED:20260415T164725Z
UID:10007728-1778425200-1778436000@northwestarkansas.org
SUMMARY:George Dombek Spring 2026 Open Studio
DESCRIPTION:George Dombek is holding his annual spring Open Studio from 3:00 to 6:00 p.m. on the weekends of April 25–26\, May 2–3\, and May 9–10\, 2026\, at 844 Blue Springs Road\, Fayetteville\, Arkansas.\nDombek’s work is in museums and private collections around the world\, as well as in Arkansas collections such as Crystal Bridges Museum of American Art\, the Arkansas Museum of Fine Arts\, and the Arts and Science Center for Southeast Arkansas. He has also created striking art glass installations\, most notably the windows at The Preacher’s Son restaurant in Bentonville.
URL:https://northwestarkansas.org/event/george-dombek-spring-2026-open-studio/2026-05-10/
LOCATION:George Dombek Studio and Gallery\, 844 Blue Springs Rd\, Fayetteville\, AR\, 72703\, United States
ATTACH;FMTTYPE=image/jpeg:https://northwestarkansas.org/wp-content/uploads/2026/04/ae-2928-20x20-bike-in-tree-scaled.jpg
ORGANIZER;CN="George Dombek":MAILTO:dombek@georgedombek.com
END:VEVENT
END:VCALENDAR