BEGIN:VCALENDAR
VERSION:2.0
PRODID:-//Northwest Arkansas - ECPv6.15.17.1//NONSGML v1.0//EN
CALSCALE:GREGORIAN
METHOD:PUBLISH
X-WR-CALNAME:Northwest Arkansas
X-ORIGINAL-URL:https://northwestarkansas.org
X-WR-CALDESC:Events for Northwest Arkansas
REFRESH-INTERVAL;VALUE=DURATION:PT1H
X-Robots-Tag:noindex
X-PUBLISHED-TTL:PT1H
BEGIN:VTIMEZONE
TZID:America/Chicago
BEGIN:DAYLIGHT
TZOFFSETFROM:-0600
TZOFFSETTO:-0500
TZNAME:CDT
DTSTART:20240310T080000
END:DAYLIGHT
BEGIN:STANDARD
TZOFFSETFROM:-0500
TZOFFSETTO:-0600
TZNAME:CST
DTSTART:20241103T070000
END:STANDARD
BEGIN:DAYLIGHT
TZOFFSETFROM:-0600
TZOFFSETTO:-0500
TZNAME:CDT
DTSTART:20250309T080000
END:DAYLIGHT
BEGIN:STANDARD
TZOFFSETFROM:-0500
TZOFFSETTO:-0600
TZNAME:CST
DTSTART:20251102T070000
END:STANDARD
BEGIN:DAYLIGHT
TZOFFSETFROM:-0600
TZOFFSETTO:-0500
TZNAME:CDT
DTSTART:20260308T080000
END:DAYLIGHT
BEGIN:STANDARD
TZOFFSETFROM:-0500
TZOFFSETTO:-0600
TZNAME:CST
DTSTART:20261101T070000
END:STANDARD
END:VTIMEZONE
BEGIN:VEVENT
DTSTART;TZID=America/Chicago:20251102T080000
DTEND;TZID=America/Chicago:20251102T170000
DTSTAMP:20260419T211947
CREATED:20251029T151328Z
LAST-MODIFIED:20260126T163223Z
UID:10006178-1762070400-1762102800@northwestarkansas.org
SUMMARY:NWA Makers Market
DESCRIPTION:Over 350 local makers\, one EPIC day! Everything made in NWA by people who live in NWA. \nMake plans to visit the Washington County Fairgrounds on Sunday November 2nd as local artists\, makers\, and craftspeople of all kinds show off and sell everything from unique art to delicious food\, EVERYTHING locally made by people who live in Northwest Arkansas! \nSunday November 2nd\, 2025\n9a-5p\nLocal coffee & 9+ food trucks\nKid & Dog Friendly\nLive Music!\nIndoor/outdoor event\, rain or shine\nAdmission: $5\, 16 & under free\nShop Local! \nWashington County Fairgrounds\n2463 N McConnell Ave\, Fayetteville\, AR 72704
URL:https://northwestarkansas.org/event/nwa-makers-market/2025-11-02/1/
LOCATION:Washington County Fairgrounds\, 2537 N McConnell Ave\, Fayetteville\, 72704\, United States
ATTACH;FMTTYPE=image/jpeg:https://northwestarkansas.org/wp-content/uploads/2025/10/Untitled-design-1.jpg
ORGANIZER;CN="NWA Makers Club":MAILTO:nwamakers@gmail.com
GEO:36.0983538;-94.1807989
X-APPLE-STRUCTURED-LOCATION;VALUE=URI;X-ADDRESS=Washington County Fairgrounds 2537 N McConnell Ave Fayetteville 72704 United States;X-APPLE-RADIUS=500;X-TITLE=2537 N McConnell Ave:geo:-94.1807989,36.0983538
END:VEVENT
BEGIN:VEVENT
DTSTART;TZID=America/Chicago:20251102T090000
DTEND;TZID=America/Chicago:20251102T170000
DTSTAMP:20260419T211947
CREATED:20251029T151328Z
LAST-MODIFIED:20260126T163223Z
UID:10006012-1762074000-1762102800@northwestarkansas.org
SUMMARY:NWA Makers Market
DESCRIPTION:Over 350 local makers\, one EPIC day! Everything made in NWA by people who live in NWA. \nMake plans to visit the Washington County Fairgrounds on Sunday November 2nd as local artists\, makers\, and craftspeople of all kinds show off and sell everything from unique art to delicious food\, EVERYTHING locally made by people who live in Northwest Arkansas! \nSunday November 2nd\, 2025\n9a-5p\nLocal coffee & 9+ food trucks\nKid & Dog Friendly\nLive Music!\nIndoor/outdoor event\, rain or shine\nAdmission: $5\, 16 & under free\nShop Local! \nWashington County Fairgrounds\n2463 N McConnell Ave\, Fayetteville\, AR 72704
URL:https://northwestarkansas.org/event/nwa-makers-market/2025-11-02/2/
LOCATION:Washington County Fairgrounds\, 2537 N McConnell Ave\, Fayetteville\, 72704\, United States
ATTACH;FMTTYPE=image/jpeg:https://northwestarkansas.org/wp-content/uploads/2025/10/Untitled-design-1.jpg
ORGANIZER;CN="NWA Makers Club":MAILTO:nwamakers@gmail.com
GEO:36.0983538;-94.1807989
X-APPLE-STRUCTURED-LOCATION;VALUE=URI;X-ADDRESS=Washington County Fairgrounds 2537 N McConnell Ave Fayetteville 72704 United States;X-APPLE-RADIUS=500;X-TITLE=2537 N McConnell Ave:geo:-94.1807989,36.0983538
END:VEVENT
BEGIN:VEVENT
DTSTART;TZID=America/Chicago:20251114T173000
DTEND;TZID=America/Chicago:20251114T220000
DTSTAMP:20260419T211947
CREATED:20251029T151328Z
LAST-MODIFIED:20251029T151328Z
UID:10006023-1763141400-1763157600@northwestarkansas.org
SUMMARY:The 3rd Annual Arkansas Country Blues & Stringband Festival
DESCRIPTION:The 3rd Annual Arkansas Country Blues and Stringband Festival will take place November 14–16\, 2025\, again in downtown Springdale.\nhttps://www.arbluesandstringbandfest.com/\nThis free\, high-quality cultural event features performances by nationally and regionally recognized artists\, educational presentations\, and community-based programming.  We kick-off the festival at Luther George Park on Friday\, November 14th with GRAMMY Award winner\, Dom Flemons and The Traveling Wildfires.  The Jones Center will host our Saturday and Sunday events.  Friday and Saturday night square dances will be held at the Springdale American Legion Hall.  The festival also includes the Ballad-Off at Turnbow Park and the Ozarks Stringband Championships\, along with ticketed workshops and our fabulous Not Your Mama’s Gospel Brunch on Sunday\, November 16th\, presented by Pink House Alchemy.
URL:https://northwestarkansas.org/event/the-3rd-annual-arkansas-country-blues-stringband-festival/2025-11-14/
LOCATION:Luther George Park\, The Jones Center\, Turnbow Park and American Legion Post\, all in downtown Springdale\, AR\, East Emma Avenue (downtown Springdale\, AR)\, Springdale\, 72764
ATTACH;FMTTYPE=image/png:https://northwestarkansas.org/wp-content/uploads/2025/10/ACBSBF-Logo.png
ORGANIZER;CN="The Music Education Initiative":MAILTO:oweems@musiceducationinitiative.org
END:VEVENT
BEGIN:VEVENT
DTSTART;TZID=America/Chicago:20251115T110000
DTEND;TZID=America/Chicago:20251115T213000
DTSTAMP:20260419T211947
CREATED:20251029T151328Z
LAST-MODIFIED:20251029T151328Z
UID:10006024-1763204400-1763242200@northwestarkansas.org
SUMMARY:The 3rd Annual Arkansas Country Blues & Stringband Festival
DESCRIPTION:The 3rd Annual Arkansas Country Blues and Stringband Festival will take place November 14–16\, 2025\, again in downtown Springdale.\nhttps://www.arbluesandstringbandfest.com/\nThis free\, high-quality cultural event features performances by nationally and regionally recognized artists\, educational presentations\, and community-based programming.  We kick-off the festival at Luther George Park on Friday\, November 14th with GRAMMY Award winner\, Dom Flemons and The Traveling Wildfires.  The Jones Center will host our Saturday and Sunday events.  Friday and Saturday night square dances will be held at the Springdale American Legion Hall.  The festival also includes the Ballad-Off at Turnbow Park and the Ozarks Stringband Championships\, along with ticketed workshops and our fabulous Not Your Mama’s Gospel Brunch on Sunday\, November 16th\, presented by Pink House Alchemy.
URL:https://northwestarkansas.org/event/the-3rd-annual-arkansas-country-blues-stringband-festival/2025-11-15/
LOCATION:Luther George Park\, The Jones Center\, Turnbow Park and American Legion Post\, all in downtown Springdale\, AR\, East Emma Avenue (downtown Springdale\, AR)\, Springdale\, 72764
ATTACH;FMTTYPE=image/png:https://northwestarkansas.org/wp-content/uploads/2025/10/ACBSBF-Logo.png
ORGANIZER;CN="The Music Education Initiative":MAILTO:oweems@musiceducationinitiative.org
END:VEVENT
BEGIN:VEVENT
DTSTART;TZID=America/Chicago:20251116T103000
DTEND;TZID=America/Chicago:20251116T153000
DTSTAMP:20260419T211947
CREATED:20251029T151328Z
LAST-MODIFIED:20251029T151328Z
UID:10006025-1763289000-1763307000@northwestarkansas.org
SUMMARY:The 3rd Annual Arkansas Country Blues & Stringband Festival
DESCRIPTION:The 3rd Annual Arkansas Country Blues and Stringband Festival will take place November 14–16\, 2025\, again in downtown Springdale.\nhttps://www.arbluesandstringbandfest.com/\nThis free\, high-quality cultural event features performances by nationally and regionally recognized artists\, educational presentations\, and community-based programming.  We kick-off the festival at Luther George Park on Friday\, November 14th with GRAMMY Award winner\, Dom Flemons and The Traveling Wildfires.  The Jones Center will host our Saturday and Sunday events.  Friday and Saturday night square dances will be held at the Springdale American Legion Hall.  The festival also includes the Ballad-Off at Turnbow Park and the Ozarks Stringband Championships\, along with ticketed workshops and our fabulous Not Your Mama’s Gospel Brunch on Sunday\, November 16th\, presented by Pink House Alchemy.
URL:https://northwestarkansas.org/event/the-3rd-annual-arkansas-country-blues-stringband-festival/2025-11-16/
LOCATION:Luther George Park\, The Jones Center\, Turnbow Park and American Legion Post\, all in downtown Springdale\, AR\, East Emma Avenue (downtown Springdale\, AR)\, Springdale\, 72764
ATTACH;FMTTYPE=image/png:https://northwestarkansas.org/wp-content/uploads/2025/10/ACBSBF-Logo.png
ORGANIZER;CN="The Music Education Initiative":MAILTO:oweems@musiceducationinitiative.org
END:VEVENT
BEGIN:VEVENT
DTSTART;TZID=America/Chicago:20251122T160000
DTEND;TZID=America/Chicago:20251122T173000
DTSTAMP:20260419T211947
CREATED:20251029T151329Z
LAST-MODIFIED:20251029T151329Z
UID:10006096-1763827200-1763832600@northwestarkansas.org
SUMMARY:A Fine Finale: ESSA’s End-of-Year Studio Stroll
DESCRIPTION:Celebrate the close of the year with A Fine Finale: ESSA’s End-of-Year Studio Stroll!  Visitors are invited to explore the Eureka Springs School of the Arts campus\, meet instructors and students\, and experience art and fine craft in progress across multiple studios. \nThis month’s stroll highlights workshops in silversmithing with Mary Lou Christie\, welded sculpture with Joe Malesky\, and ceramics with Jessica Ames-Russell.\nEnjoy an inspiring afternoon surrounded by creativity\, community\, and the joy of making. \nRSVP on our Facebook Event page here: https://www.facebook.com/share/1BYJ2LPSaw/ \nLearn more here: https://essa-art.org/events/studio-strolls/
URL:https://northwestarkansas.org/event/a-fine-finale-essas-end-of-year-studio-stroll/
LOCATION:Eureka Springs School of the Arts\, 15751 Hwy. 62 W.\, Eureka Springs\, AR\, 72632\, United States
ATTACH;FMTTYPE=image/png:https://northwestarkansas.org/wp-content/uploads/2025/10/ESSA_November2025_StudioStroll_Banner-smaller.png
ORGANIZER;CN="Eureka Springs School of the Arts (ESSA)":MAILTO:marketing@essa-art.org
END:VEVENT
END:VCALENDAR