BEGIN:VCALENDAR
VERSION:2.0
PRODID:-//Northwest Arkansas - ECPv6.15.17.1//NONSGML v1.0//EN
CALSCALE:GREGORIAN
METHOD:PUBLISH
X-ORIGINAL-URL:https://northwestarkansas.org
X-WR-CALDESC:Events for Northwest Arkansas
REFRESH-INTERVAL;VALUE=DURATION:PT1H
X-Robots-Tag:noindex
X-PUBLISHED-TTL:PT1H
BEGIN:VTIMEZONE
TZID:America/Chicago
BEGIN:DAYLIGHT
TZOFFSETFROM:-0600
TZOFFSETTO:-0500
TZNAME:CDT
DTSTART:20240310T080000
END:DAYLIGHT
BEGIN:STANDARD
TZOFFSETFROM:-0500
TZOFFSETTO:-0600
TZNAME:CST
DTSTART:20241103T070000
END:STANDARD
BEGIN:DAYLIGHT
TZOFFSETFROM:-0600
TZOFFSETTO:-0500
TZNAME:CDT
DTSTART:20250309T080000
END:DAYLIGHT
BEGIN:STANDARD
TZOFFSETFROM:-0500
TZOFFSETTO:-0600
TZNAME:CST
DTSTART:20251102T070000
END:STANDARD
BEGIN:DAYLIGHT
TZOFFSETFROM:-0600
TZOFFSETTO:-0500
TZNAME:CDT
DTSTART:20260308T080000
END:DAYLIGHT
BEGIN:STANDARD
TZOFFSETFROM:-0500
TZOFFSETTO:-0600
TZNAME:CST
DTSTART:20261101T070000
END:STANDARD
END:VTIMEZONE
BEGIN:VEVENT
DTSTART;TZID=America/Chicago:20250201T160000
DTEND;TZID=America/Chicago:20250201T190000
DTSTAMP:20260420T114922
CREATED:20240411T164754Z
LAST-MODIFIED:20240411T164754Z
UID:10000913-1738425600-1738436400@northwestarkansas.org
SUMMARY:Eureka Springs Art Walk & Expedition
DESCRIPTION:🎉🎊✨CELEBRATE THE ARTS\, ARTISTS\, MAKERS & MAGIC OF EUREKA SPRINGS! \n☑️Meet the Artists\, Enjoy Live Music\, See Art Demonstrations\, Mingle\, Enjoy the Eureka Springs Art Scene\n🟨To participate in the EXPEDITION portion of the ART WALK:\n☑️Pick up your ART PASSPORT AT THE ENTRY POINT (The location will be announced before each ART WALK)\n☑️Visit participating galleries/shops to pick up your ART POSTCARD & HAVE IT DATE STAMPED (Each participating gallery/shop will have their own unique postcard) \n🖼Participants that receive date stamps at all participating locations\, will be entered to win local art! \n🎉🎊🎉🎊Save your ART PASSPORT & ART POSTCARDS to use during the monthly ART WALKS – the more you attend – the more chances you have at winning the Grand Prize at the end of the ART WALK season in October. \n✨We will be sharing a list of all galleries & shops that will be participating in the ART WALK & EXPEDITION before each ART WALK. 🙂  \n❣️Thanks a million for being a supporter of the arts! You’re the bee’s knees\, the paint to our canvas\, the melody to our muse. Your support means the world to us creative souls!
URL:https://northwestarkansas.org/event/eureka-springs-art-walk-expedition-2/2025-02-01/
LOCATION:Eureka Springs\, 1303 CR 204\, Eureka Springs\, AR\, 72632\, United States
ATTACH;FMTTYPE=image/jpeg:https://northwestarkansas.org/wp-content/uploads/2024/04/EventPhotoFull_434653457_337892732615335_1994343397876240919_n-1.jpg
END:VEVENT
BEGIN:VEVENT
DTSTART;TZID=America/Chicago:20250201T180000
DTEND;TZID=America/Chicago:20250201T200000
DTSTAMP:20260420T114922
CREATED:20240411T165152Z
LAST-MODIFIED:20240411T165152Z
UID:10000928-1738432800-1738440000@northwestarkansas.org
SUMMARY:Drumming in the Park - Eureka Springs
DESCRIPTION:Come join us to make some noise\, dance\, and have a great evening in Basin Spring Park. Join in the fun! Bring a drum or anything else that makes noise and join the drum circle with Angelo and his troupe of drummers and dancers.
URL:https://northwestarkansas.org/event/drumming-in-the-park-eureka-springs-2/2025-02-01/
LOCATION:Downtown Eureka Springs\, 67 Main St.\, Eureka Springs\, AR\, 72632\, United States
ATTACH;FMTTYPE=image/jpeg:https://northwestarkansas.org/wp-content/uploads/2024/04/EventPhotoFull_drumming-in-the-park-2.jpg
GEO:36.400592;-93.739641
X-APPLE-STRUCTURED-LOCATION;VALUE=URI;X-ADDRESS=Downtown Eureka Springs 67 Main St. Eureka Springs AR 72632 United States;X-APPLE-RADIUS=500;X-TITLE=67 Main St.:geo:-93.739641,36.400592
END:VEVENT
BEGIN:VEVENT
DTSTART;TZID=America/Chicago:20250201T190000
DTEND;TZID=America/Chicago:20250201T210000
DTSTAMP:20260420T114922
CREATED:20240411T162413Z
LAST-MODIFIED:20240411T162413Z
UID:10000852-1738436400-1738443600@northwestarkansas.org
SUMMARY:Silence in the Jungle (Live Theater in Eureka Springs)
DESCRIPTION:This intimate live theater experience was created to ignite your imagination and transport you to another world. Seated in our beautiful historic ballroom with a cocktail at your side\, you will follow our characters in this original story as they journey down a wild jungle river in 1936. True to Melonlight’s theatrical style\, the performance unfolds with phenomenal costumes\, fabulous lighting and a soundscape that will have you thinking you’re truly in the jungle. Featuring four skillful and captivating actors\, the story promises to entertain with love\, fright and curiosity. When new guests arrive for a Melonlight show\, they’re often unsure of what to expect\, but they always leave in awe and excitement. Get your tickets now for this Eureka Springs-must-see limited engagement. BYOB for All – Limited Seating – VIP Lounge Seats Available
URL:https://northwestarkansas.org/event/silence-in-the-jungle-live-theater-in-eureka-springs/2025-02-01/
LOCATION:melonlight ballroom\, 2 Pine St.\, Eureka Springs\, AR\, 72632\, United States
ATTACH;FMTTYPE=image/jpeg:https://northwestarkansas.org/wp-content/uploads/2024/04/428701424_899716708830650_4075607276389737009_n.jpg
END:VEVENT
BEGIN:VEVENT
DTSTART;TZID=America/Chicago:20250207T190000
DTEND;TZID=America/Chicago:20250207T210000
DTSTAMP:20260420T114922
CREATED:20240411T162413Z
LAST-MODIFIED:20240411T162413Z
UID:10000853-1738954800-1738962000@northwestarkansas.org
SUMMARY:Silence in the Jungle (Live Theater in Eureka Springs)
DESCRIPTION:This intimate live theater experience was created to ignite your imagination and transport you to another world. Seated in our beautiful historic ballroom with a cocktail at your side\, you will follow our characters in this original story as they journey down a wild jungle river in 1936. True to Melonlight’s theatrical style\, the performance unfolds with phenomenal costumes\, fabulous lighting and a soundscape that will have you thinking you’re truly in the jungle. Featuring four skillful and captivating actors\, the story promises to entertain with love\, fright and curiosity. When new guests arrive for a Melonlight show\, they’re often unsure of what to expect\, but they always leave in awe and excitement. Get your tickets now for this Eureka Springs-must-see limited engagement. BYOB for All – Limited Seating – VIP Lounge Seats Available
URL:https://northwestarkansas.org/event/silence-in-the-jungle-live-theater-in-eureka-springs/2025-02-07/
LOCATION:melonlight ballroom\, 2 Pine St.\, Eureka Springs\, AR\, 72632\, United States
ATTACH;FMTTYPE=image/jpeg:https://northwestarkansas.org/wp-content/uploads/2024/04/428701424_899716708830650_4075607276389737009_n.jpg
END:VEVENT
BEGIN:VEVENT
DTSTART;TZID=America/Chicago:20250208T190000
DTEND;TZID=America/Chicago:20250208T210000
DTSTAMP:20260420T114922
CREATED:20240411T162413Z
LAST-MODIFIED:20240411T162413Z
UID:10000854-1739041200-1739048400@northwestarkansas.org
SUMMARY:Silence in the Jungle (Live Theater in Eureka Springs)
DESCRIPTION:This intimate live theater experience was created to ignite your imagination and transport you to another world. Seated in our beautiful historic ballroom with a cocktail at your side\, you will follow our characters in this original story as they journey down a wild jungle river in 1936. True to Melonlight’s theatrical style\, the performance unfolds with phenomenal costumes\, fabulous lighting and a soundscape that will have you thinking you’re truly in the jungle. Featuring four skillful and captivating actors\, the story promises to entertain with love\, fright and curiosity. When new guests arrive for a Melonlight show\, they’re often unsure of what to expect\, but they always leave in awe and excitement. Get your tickets now for this Eureka Springs-must-see limited engagement. BYOB for All – Limited Seating – VIP Lounge Seats Available
URL:https://northwestarkansas.org/event/silence-in-the-jungle-live-theater-in-eureka-springs/2025-02-08/
LOCATION:melonlight ballroom\, 2 Pine St.\, Eureka Springs\, AR\, 72632\, United States
ATTACH;FMTTYPE=image/jpeg:https://northwestarkansas.org/wp-content/uploads/2024/04/428701424_899716708830650_4075607276389737009_n.jpg
END:VEVENT
BEGIN:VEVENT
DTSTART;TZID=America/Chicago:20250214T190000
DTEND;TZID=America/Chicago:20250214T210000
DTSTAMP:20260420T114922
CREATED:20240411T162413Z
LAST-MODIFIED:20240411T162413Z
UID:10000855-1739559600-1739566800@northwestarkansas.org
SUMMARY:Silence in the Jungle (Live Theater in Eureka Springs)
DESCRIPTION:This intimate live theater experience was created to ignite your imagination and transport you to another world. Seated in our beautiful historic ballroom with a cocktail at your side\, you will follow our characters in this original story as they journey down a wild jungle river in 1936. True to Melonlight’s theatrical style\, the performance unfolds with phenomenal costumes\, fabulous lighting and a soundscape that will have you thinking you’re truly in the jungle. Featuring four skillful and captivating actors\, the story promises to entertain with love\, fright and curiosity. When new guests arrive for a Melonlight show\, they’re often unsure of what to expect\, but they always leave in awe and excitement. Get your tickets now for this Eureka Springs-must-see limited engagement. BYOB for All – Limited Seating – VIP Lounge Seats Available
URL:https://northwestarkansas.org/event/silence-in-the-jungle-live-theater-in-eureka-springs/2025-02-14/
LOCATION:melonlight ballroom\, 2 Pine St.\, Eureka Springs\, AR\, 72632\, United States
ATTACH;FMTTYPE=image/jpeg:https://northwestarkansas.org/wp-content/uploads/2024/04/428701424_899716708830650_4075607276389737009_n.jpg
END:VEVENT
BEGIN:VEVENT
DTSTART;TZID=America/Chicago:20250215T190000
DTEND;TZID=America/Chicago:20250215T210000
DTSTAMP:20260420T114922
CREATED:20240411T162413Z
LAST-MODIFIED:20240411T162413Z
UID:10000856-1739646000-1739653200@northwestarkansas.org
SUMMARY:Silence in the Jungle (Live Theater in Eureka Springs)
DESCRIPTION:This intimate live theater experience was created to ignite your imagination and transport you to another world. Seated in our beautiful historic ballroom with a cocktail at your side\, you will follow our characters in this original story as they journey down a wild jungle river in 1936. True to Melonlight’s theatrical style\, the performance unfolds with phenomenal costumes\, fabulous lighting and a soundscape that will have you thinking you’re truly in the jungle. Featuring four skillful and captivating actors\, the story promises to entertain with love\, fright and curiosity. When new guests arrive for a Melonlight show\, they’re often unsure of what to expect\, but they always leave in awe and excitement. Get your tickets now for this Eureka Springs-must-see limited engagement. BYOB for All – Limited Seating – VIP Lounge Seats Available
URL:https://northwestarkansas.org/event/silence-in-the-jungle-live-theater-in-eureka-springs/2025-02-15/
LOCATION:melonlight ballroom\, 2 Pine St.\, Eureka Springs\, AR\, 72632\, United States
ATTACH;FMTTYPE=image/jpeg:https://northwestarkansas.org/wp-content/uploads/2024/04/428701424_899716708830650_4075607276389737009_n.jpg
END:VEVENT
BEGIN:VEVENT
DTSTART;TZID=America/Chicago:20250221T190000
DTEND;TZID=America/Chicago:20250221T210000
DTSTAMP:20260420T114922
CREATED:20240411T162413Z
LAST-MODIFIED:20240411T162413Z
UID:10000857-1740164400-1740171600@northwestarkansas.org
SUMMARY:Silence in the Jungle (Live Theater in Eureka Springs)
DESCRIPTION:This intimate live theater experience was created to ignite your imagination and transport you to another world. Seated in our beautiful historic ballroom with a cocktail at your side\, you will follow our characters in this original story as they journey down a wild jungle river in 1936. True to Melonlight’s theatrical style\, the performance unfolds with phenomenal costumes\, fabulous lighting and a soundscape that will have you thinking you’re truly in the jungle. Featuring four skillful and captivating actors\, the story promises to entertain with love\, fright and curiosity. When new guests arrive for a Melonlight show\, they’re often unsure of what to expect\, but they always leave in awe and excitement. Get your tickets now for this Eureka Springs-must-see limited engagement. BYOB for All – Limited Seating – VIP Lounge Seats Available
URL:https://northwestarkansas.org/event/silence-in-the-jungle-live-theater-in-eureka-springs/2025-02-21/
LOCATION:melonlight ballroom\, 2 Pine St.\, Eureka Springs\, AR\, 72632\, United States
ATTACH;FMTTYPE=image/jpeg:https://northwestarkansas.org/wp-content/uploads/2024/04/428701424_899716708830650_4075607276389737009_n.jpg
END:VEVENT
BEGIN:VEVENT
DTSTART;TZID=America/Chicago:20250222T190000
DTEND;TZID=America/Chicago:20250222T210000
DTSTAMP:20260420T114922
CREATED:20240411T162413Z
LAST-MODIFIED:20240411T162413Z
UID:10000858-1740250800-1740258000@northwestarkansas.org
SUMMARY:Silence in the Jungle (Live Theater in Eureka Springs)
DESCRIPTION:This intimate live theater experience was created to ignite your imagination and transport you to another world. Seated in our beautiful historic ballroom with a cocktail at your side\, you will follow our characters in this original story as they journey down a wild jungle river in 1936. True to Melonlight’s theatrical style\, the performance unfolds with phenomenal costumes\, fabulous lighting and a soundscape that will have you thinking you’re truly in the jungle. Featuring four skillful and captivating actors\, the story promises to entertain with love\, fright and curiosity. When new guests arrive for a Melonlight show\, they’re often unsure of what to expect\, but they always leave in awe and excitement. Get your tickets now for this Eureka Springs-must-see limited engagement. BYOB for All – Limited Seating – VIP Lounge Seats Available
URL:https://northwestarkansas.org/event/silence-in-the-jungle-live-theater-in-eureka-springs/2025-02-22/
LOCATION:melonlight ballroom\, 2 Pine St.\, Eureka Springs\, AR\, 72632\, United States
ATTACH;FMTTYPE=image/jpeg:https://northwestarkansas.org/wp-content/uploads/2024/04/428701424_899716708830650_4075607276389737009_n.jpg
END:VEVENT
BEGIN:VEVENT
DTSTART;TZID=America/Chicago:20250228T190000
DTEND;TZID=America/Chicago:20250228T210000
DTSTAMP:20260420T114922
CREATED:20240411T162413Z
LAST-MODIFIED:20240411T162413Z
UID:10000859-1740769200-1740776400@northwestarkansas.org
SUMMARY:Silence in the Jungle (Live Theater in Eureka Springs)
DESCRIPTION:This intimate live theater experience was created to ignite your imagination and transport you to another world. Seated in our beautiful historic ballroom with a cocktail at your side\, you will follow our characters in this original story as they journey down a wild jungle river in 1936. True to Melonlight’s theatrical style\, the performance unfolds with phenomenal costumes\, fabulous lighting and a soundscape that will have you thinking you’re truly in the jungle. Featuring four skillful and captivating actors\, the story promises to entertain with love\, fright and curiosity. When new guests arrive for a Melonlight show\, they’re often unsure of what to expect\, but they always leave in awe and excitement. Get your tickets now for this Eureka Springs-must-see limited engagement. BYOB for All – Limited Seating – VIP Lounge Seats Available
URL:https://northwestarkansas.org/event/silence-in-the-jungle-live-theater-in-eureka-springs/2025-02-28/
LOCATION:melonlight ballroom\, 2 Pine St.\, Eureka Springs\, AR\, 72632\, United States
ATTACH;FMTTYPE=image/jpeg:https://northwestarkansas.org/wp-content/uploads/2024/04/428701424_899716708830650_4075607276389737009_n.jpg
END:VEVENT
END:VCALENDAR