BEGIN:VCALENDAR
VERSION:2.0
PRODID:-//Northwest Arkansas - ECPv6.15.17.1//NONSGML v1.0//EN
CALSCALE:GREGORIAN
METHOD:PUBLISH
X-WR-CALNAME:Northwest Arkansas
X-ORIGINAL-URL:https://northwestarkansas.org
X-WR-CALDESC:Events for Northwest Arkansas
REFRESH-INTERVAL;VALUE=DURATION:PT1H
X-Robots-Tag:noindex
X-PUBLISHED-TTL:PT1H
BEGIN:VTIMEZONE
TZID:America/Chicago
BEGIN:DAYLIGHT
TZOFFSETFROM:-0600
TZOFFSETTO:-0500
TZNAME:CDT
DTSTART:20230312T080000
END:DAYLIGHT
BEGIN:STANDARD
TZOFFSETFROM:-0500
TZOFFSETTO:-0600
TZNAME:CST
DTSTART:20231105T070000
END:STANDARD
BEGIN:DAYLIGHT
TZOFFSETFROM:-0600
TZOFFSETTO:-0500
TZNAME:CDT
DTSTART:20240310T080000
END:DAYLIGHT
BEGIN:STANDARD
TZOFFSETFROM:-0500
TZOFFSETTO:-0600
TZNAME:CST
DTSTART:20241103T070000
END:STANDARD
BEGIN:DAYLIGHT
TZOFFSETFROM:-0600
TZOFFSETTO:-0500
TZNAME:CDT
DTSTART:20250309T080000
END:DAYLIGHT
BEGIN:STANDARD
TZOFFSETFROM:-0500
TZOFFSETTO:-0600
TZNAME:CST
DTSTART:20251102T070000
END:STANDARD
END:VTIMEZONE
BEGIN:VEVENT
DTSTART;TZID=America/Chicago:20240705T190000
DTEND;TZID=America/Chicago:20240705T210000
DTSTAMP:20260420T220825
CREATED:20240411T162413Z
LAST-MODIFIED:20240411T162413Z
UID:10000791-1720206000-1720213200@northwestarkansas.org
SUMMARY:Silence in the Jungle (Live Theater in Eureka Springs)
DESCRIPTION:This intimate live theater experience was created to ignite your imagination and transport you to another world. Seated in our beautiful historic ballroom with a cocktail at your side\, you will follow our characters in this original story as they journey down a wild jungle river in 1936. True to Melonlight’s theatrical style\, the performance unfolds with phenomenal costumes\, fabulous lighting and a soundscape that will have you thinking you’re truly in the jungle. Featuring four skillful and captivating actors\, the story promises to entertain with love\, fright and curiosity. When new guests arrive for a Melonlight show\, they’re often unsure of what to expect\, but they always leave in awe and excitement. Get your tickets now for this Eureka Springs-must-see limited engagement. BYOB for All – Limited Seating – VIP Lounge Seats Available
URL:https://northwestarkansas.org/event/silence-in-the-jungle-live-theater-in-eureka-springs/2024-07-05/
LOCATION:melonlight ballroom\, 2 Pine St.\, Eureka Springs\, AR\, 72632\, United States
ATTACH;FMTTYPE=image/jpeg:https://northwestarkansas.org/wp-content/uploads/2024/04/428701424_899716708830650_4075607276389737009_n.jpg
END:VEVENT
BEGIN:VEVENT
DTSTART;TZID=America/Chicago:20240706T160000
DTEND;TZID=America/Chicago:20240706T190000
DTSTAMP:20260420T220825
CREATED:20240411T164754Z
LAST-MODIFIED:20240411T164754Z
UID:10000906-1720281600-1720292400@northwestarkansas.org
SUMMARY:Eureka Springs Art Walk & Expedition
DESCRIPTION:🎉🎊✨CELEBRATE THE ARTS\, ARTISTS\, MAKERS & MAGIC OF EUREKA SPRINGS! \n☑️Meet the Artists\, Enjoy Live Music\, See Art Demonstrations\, Mingle\, Enjoy the Eureka Springs Art Scene\n🟨To participate in the EXPEDITION portion of the ART WALK:\n☑️Pick up your ART PASSPORT AT THE ENTRY POINT (The location will be announced before each ART WALK)\n☑️Visit participating galleries/shops to pick up your ART POSTCARD & HAVE IT DATE STAMPED (Each participating gallery/shop will have their own unique postcard) \n🖼Participants that receive date stamps at all participating locations\, will be entered to win local art! \n🎉🎊🎉🎊Save your ART PASSPORT & ART POSTCARDS to use during the monthly ART WALKS – the more you attend – the more chances you have at winning the Grand Prize at the end of the ART WALK season in October. \n✨We will be sharing a list of all galleries & shops that will be participating in the ART WALK & EXPEDITION before each ART WALK. 🙂  \n❣️Thanks a million for being a supporter of the arts! You’re the bee’s knees\, the paint to our canvas\, the melody to our muse. Your support means the world to us creative souls!
URL:https://northwestarkansas.org/event/eureka-springs-art-walk-expedition-2/2024-07-06/
LOCATION:Eureka Springs\, 1303 CR 204\, Eureka Springs\, AR\, 72632\, United States
ATTACH;FMTTYPE=image/jpeg:https://northwestarkansas.org/wp-content/uploads/2024/04/EventPhotoFull_434653457_337892732615335_1994343397876240919_n-1.jpg
END:VEVENT
BEGIN:VEVENT
DTSTART;TZID=America/Chicago:20240706T190000
DTEND;TZID=America/Chicago:20240706T210000
DTSTAMP:20260420T220825
CREATED:20240411T162413Z
LAST-MODIFIED:20240411T162413Z
UID:10000792-1720292400-1720299600@northwestarkansas.org
SUMMARY:Silence in the Jungle (Live Theater in Eureka Springs)
DESCRIPTION:This intimate live theater experience was created to ignite your imagination and transport you to another world. Seated in our beautiful historic ballroom with a cocktail at your side\, you will follow our characters in this original story as they journey down a wild jungle river in 1936. True to Melonlight’s theatrical style\, the performance unfolds with phenomenal costumes\, fabulous lighting and a soundscape that will have you thinking you’re truly in the jungle. Featuring four skillful and captivating actors\, the story promises to entertain with love\, fright and curiosity. When new guests arrive for a Melonlight show\, they’re often unsure of what to expect\, but they always leave in awe and excitement. Get your tickets now for this Eureka Springs-must-see limited engagement. BYOB for All – Limited Seating – VIP Lounge Seats Available
URL:https://northwestarkansas.org/event/silence-in-the-jungle-live-theater-in-eureka-springs/2024-07-06/
LOCATION:melonlight ballroom\, 2 Pine St.\, Eureka Springs\, AR\, 72632\, United States
ATTACH;FMTTYPE=image/jpeg:https://northwestarkansas.org/wp-content/uploads/2024/04/428701424_899716708830650_4075607276389737009_n.jpg
END:VEVENT
BEGIN:VEVENT
DTSTART;TZID=America/Chicago:20240712T114500
DTEND;TZID=America/Chicago:20240712T121500
DTSTAMP:20260420T220825
CREATED:20240523T170303Z
LAST-MODIFIED:20240523T170303Z
UID:10001065-1720784700-1720786500@northwestarkansas.org
SUMMARY:MOMENT OF MEDITATION
DESCRIPTION:Join Cocoon Yoga Lab for a moment of stillness\, a moment to quiet the mind\, and a moment to just be. \nEach session explores a different style of meditation. Using breath and sound\, we will work toward quieting the mind and resetting after the long week. From exploring the chakras to sensory meditations\, you may just find the best way to engage in full relaxation. No experience necessary and open to all. Class will be practiced at room temperature and we suggest having an extra layer for comfort. \nFree\, tickets required. Reserve your spot online or with the Box Office at (479) 657-2335 today.\nPlease bring a yoga mat\, a pillow\, blanket and an eye pillow or small towel for your eyes. Yoga mats will be available upon request.
URL:https://northwestarkansas.org/event/moment-of-meditation/2024-07-12/
LOCATION:The Momentary\, 507 SE E Street\, Bentonville\, AR\, 72712\, United States
ATTACH;FMTTYPE=image/png:https://northwestarkansas.org/wp-content/uploads/2024/05/Untitled-design-26.png
END:VEVENT
BEGIN:VEVENT
DTSTART;TZID=America/Chicago:20240712T190000
DTEND;TZID=America/Chicago:20240712T210000
DTSTAMP:20260420T220825
CREATED:20240411T162413Z
LAST-MODIFIED:20240411T162413Z
UID:10000793-1720810800-1720818000@northwestarkansas.org
SUMMARY:Silence in the Jungle (Live Theater in Eureka Springs)
DESCRIPTION:This intimate live theater experience was created to ignite your imagination and transport you to another world. Seated in our beautiful historic ballroom with a cocktail at your side\, you will follow our characters in this original story as they journey down a wild jungle river in 1936. True to Melonlight’s theatrical style\, the performance unfolds with phenomenal costumes\, fabulous lighting and a soundscape that will have you thinking you’re truly in the jungle. Featuring four skillful and captivating actors\, the story promises to entertain with love\, fright and curiosity. When new guests arrive for a Melonlight show\, they’re often unsure of what to expect\, but they always leave in awe and excitement. Get your tickets now for this Eureka Springs-must-see limited engagement. BYOB for All – Limited Seating – VIP Lounge Seats Available
URL:https://northwestarkansas.org/event/silence-in-the-jungle-live-theater-in-eureka-springs/2024-07-12/
LOCATION:melonlight ballroom\, 2 Pine St.\, Eureka Springs\, AR\, 72632\, United States
ATTACH;FMTTYPE=image/jpeg:https://northwestarkansas.org/wp-content/uploads/2024/04/428701424_899716708830650_4075607276389737009_n.jpg
END:VEVENT
BEGIN:VEVENT
DTSTART;TZID=America/Chicago:20240713T190000
DTEND;TZID=America/Chicago:20240713T210000
DTSTAMP:20260420T220825
CREATED:20240411T162413Z
LAST-MODIFIED:20240411T162413Z
UID:10000794-1720897200-1720904400@northwestarkansas.org
SUMMARY:Silence in the Jungle (Live Theater in Eureka Springs)
DESCRIPTION:This intimate live theater experience was created to ignite your imagination and transport you to another world. Seated in our beautiful historic ballroom with a cocktail at your side\, you will follow our characters in this original story as they journey down a wild jungle river in 1936. True to Melonlight’s theatrical style\, the performance unfolds with phenomenal costumes\, fabulous lighting and a soundscape that will have you thinking you’re truly in the jungle. Featuring four skillful and captivating actors\, the story promises to entertain with love\, fright and curiosity. When new guests arrive for a Melonlight show\, they’re often unsure of what to expect\, but they always leave in awe and excitement. Get your tickets now for this Eureka Springs-must-see limited engagement. BYOB for All – Limited Seating – VIP Lounge Seats Available
URL:https://northwestarkansas.org/event/silence-in-the-jungle-live-theater-in-eureka-springs/2024-07-13/
LOCATION:melonlight ballroom\, 2 Pine St.\, Eureka Springs\, AR\, 72632\, United States
ATTACH;FMTTYPE=image/jpeg:https://northwestarkansas.org/wp-content/uploads/2024/04/428701424_899716708830650_4075607276389737009_n.jpg
END:VEVENT
BEGIN:VEVENT
DTSTART;TZID=America/Chicago:20240714T140000
DTEND;TZID=America/Chicago:20240714T150000
DTSTAMP:20260420T220825
CREATED:20240528T190525Z
LAST-MODIFIED:20240528T190525Z
UID:10001079-1720965600-1720969200@northwestarkansas.org
SUMMARY:Gallery Performance: Trillium Salon Series
DESCRIPTION:Trillium Salon Series returns to the galleries of Crystal Bridges to kick off a third season of art and music. Inspired by works in the collection\, immerse yourself in sound during this afternoon of art and music performances that occur on the Second Sunday each month\, May through October. \nFree\, no tickets required
URL:https://northwestarkansas.org/event/gallery-performance-trillium-salon-series/
LOCATION:Crystal Bridges\, 600 Museum Way\, Bentonville\, AR\, 72712\, United States
ATTACH;FMTTYPE=image/jpeg:https://northwestarkansas.org/wp-content/uploads/2024/05/SEI20220414_0923_2000.jpg
END:VEVENT
BEGIN:VEVENT
DTSTART;TZID=America/Chicago:20240719T190000
DTEND;TZID=America/Chicago:20240719T210000
DTSTAMP:20260420T220825
CREATED:20240411T162413Z
LAST-MODIFIED:20240411T162413Z
UID:10000795-1721415600-1721422800@northwestarkansas.org
SUMMARY:Silence in the Jungle (Live Theater in Eureka Springs)
DESCRIPTION:This intimate live theater experience was created to ignite your imagination and transport you to another world. Seated in our beautiful historic ballroom with a cocktail at your side\, you will follow our characters in this original story as they journey down a wild jungle river in 1936. True to Melonlight’s theatrical style\, the performance unfolds with phenomenal costumes\, fabulous lighting and a soundscape that will have you thinking you’re truly in the jungle. Featuring four skillful and captivating actors\, the story promises to entertain with love\, fright and curiosity. When new guests arrive for a Melonlight show\, they’re often unsure of what to expect\, but they always leave in awe and excitement. Get your tickets now for this Eureka Springs-must-see limited engagement. BYOB for All – Limited Seating – VIP Lounge Seats Available
URL:https://northwestarkansas.org/event/silence-in-the-jungle-live-theater-in-eureka-springs/2024-07-19/
LOCATION:melonlight ballroom\, 2 Pine St.\, Eureka Springs\, AR\, 72632\, United States
ATTACH;FMTTYPE=image/jpeg:https://northwestarkansas.org/wp-content/uploads/2024/04/428701424_899716708830650_4075607276389737009_n.jpg
END:VEVENT
BEGIN:VEVENT
DTSTART;TZID=America/Chicago:20240720T110000
DTEND;TZID=America/Chicago:20240720T160000
DTSTAMP:20260420T220825
CREATED:20240517T234458Z
LAST-MODIFIED:20240517T234458Z
UID:10001049-1721473200-1721491200@northwestarkansas.org
SUMMARY:Pop-up Studio: Ceramics with Wheel Mobile
DESCRIPTION:Ready to get your hands dirty in the most fun way possible? \nWell\, look no further than Pop-up Studios at Crystal Bridges Museum! On select weekends\, we spice things up with a little extra flair – a hands-on artmaking experience that breaks free from the traditional studio vibe. You’ll find some of your favorite local artists right here at the museum\, where everyone can jump into some easy and fun artmaking activities. \nThis week\, we’re exploring the art of ceramics with the Wheel Mobile! This custom-designed Winnebago comes equipped with 9 pottery wheels\, giving you the opportunity to try your hand at throwing. Create your very own small pot\, perfect for adding a touch of homemade charm to your home décor. \nThe Wheel Mobile will be at Crystal Bridges from 11 a.m. to 4 p.m. at Campus Parking. Drop in anytime to create a pinch pot on the lawn or those 10 years of age and up can register to throw a pot on the wheel. The experience is first come\, first served. \nTickets are $30 ($25 for members). Reserve your spot online or with Guest Services at (479) 657-2335 today.\nTicket includes one 45-minute lesson on a pottery wheel. Space is limited. Participants will need to come back to the museum to pick up their creations.
URL:https://northwestarkansas.org/event/pop-up-studio-ceramics-with-wheel-mobile/
LOCATION:Crystal Bridges\, 600 Museum Way\, Bentonville\, AR\, 72712\, United States
ATTACH;FMTTYPE=image/jpeg:https://northwestarkansas.org/wp-content/uploads/2024/05/IMG_2212-1-1024x576_72dpi.jpg
END:VEVENT
BEGIN:VEVENT
DTSTART;TZID=America/Chicago:20240720T190000
DTEND;TZID=America/Chicago:20240720T210000
DTSTAMP:20260420T220825
CREATED:20240411T162413Z
LAST-MODIFIED:20240411T162413Z
UID:10000796-1721502000-1721509200@northwestarkansas.org
SUMMARY:Silence in the Jungle (Live Theater in Eureka Springs)
DESCRIPTION:This intimate live theater experience was created to ignite your imagination and transport you to another world. Seated in our beautiful historic ballroom with a cocktail at your side\, you will follow our characters in this original story as they journey down a wild jungle river in 1936. True to Melonlight’s theatrical style\, the performance unfolds with phenomenal costumes\, fabulous lighting and a soundscape that will have you thinking you’re truly in the jungle. Featuring four skillful and captivating actors\, the story promises to entertain with love\, fright and curiosity. When new guests arrive for a Melonlight show\, they’re often unsure of what to expect\, but they always leave in awe and excitement. Get your tickets now for this Eureka Springs-must-see limited engagement. BYOB for All – Limited Seating – VIP Lounge Seats Available
URL:https://northwestarkansas.org/event/silence-in-the-jungle-live-theater-in-eureka-springs/2024-07-20/
LOCATION:melonlight ballroom\, 2 Pine St.\, Eureka Springs\, AR\, 72632\, United States
ATTACH;FMTTYPE=image/jpeg:https://northwestarkansas.org/wp-content/uploads/2024/04/428701424_899716708830650_4075607276389737009_n.jpg
END:VEVENT
BEGIN:VEVENT
DTSTART;TZID=America/Chicago:20240726T114500
DTEND;TZID=America/Chicago:20240726T121500
DTSTAMP:20260420T220825
CREATED:20240523T170303Z
LAST-MODIFIED:20240523T170303Z
UID:10001066-1721994300-1721996100@northwestarkansas.org
SUMMARY:MOMENT OF MEDITATION
DESCRIPTION:Join Cocoon Yoga Lab for a moment of stillness\, a moment to quiet the mind\, and a moment to just be. \nEach session explores a different style of meditation. Using breath and sound\, we will work toward quieting the mind and resetting after the long week. From exploring the chakras to sensory meditations\, you may just find the best way to engage in full relaxation. No experience necessary and open to all. Class will be practiced at room temperature and we suggest having an extra layer for comfort. \nFree\, tickets required. Reserve your spot online or with the Box Office at (479) 657-2335 today.\nPlease bring a yoga mat\, a pillow\, blanket and an eye pillow or small towel for your eyes. Yoga mats will be available upon request.
URL:https://northwestarkansas.org/event/moment-of-meditation/2024-07-26/
LOCATION:The Momentary\, 507 SE E Street\, Bentonville\, AR\, 72712\, United States
ATTACH;FMTTYPE=image/png:https://northwestarkansas.org/wp-content/uploads/2024/05/Untitled-design-26.png
END:VEVENT
BEGIN:VEVENT
DTSTART;TZID=America/Chicago:20240726T180000
DTEND;TZID=America/Chicago:20240726T200000
DTSTAMP:20260420T220825
CREATED:20240516T180446Z
LAST-MODIFIED:20240516T180446Z
UID:10001044-1722016800-1722024000@northwestarkansas.org
SUMMARY:Art by the Glass: Butterfly Garden Floral Arrangements with Althea Wiles
DESCRIPTION:Drawing inspiration from our collection\, you’ll learn expert arranging techniques from our Art in Bloom designer while enjoying appetizers and a glass of wine. Immerse yourself in the fusion of art and nature\, crafting your own masterpiece in a sophisticated and delightful atmosphere. Whether you’re a seasoned artist or a newbie\, everyone is welcome! All supplies\, light appetizers\, and a glass of beer or wine are on us. See you there! \nTickets are $30 ($24 for members). Reserve your spot online or with Guest Services at (479) 657-2335 today. \nMust be age 21+ to attend. Ticket includes one drink (non-alcoholic options available).
URL:https://northwestarkansas.org/event/art-by-the-glass-butterfly-garden-floral-arrangements-with-althea-wiles/
LOCATION:Crystal Bridges\, 600 Museum Way\, Bentonville\, AR\, 72712\, United States
ATTACH;FMTTYPE=image/jpeg:https://northwestarkansas.org/wp-content/uploads/2024/05/51711674483_6f2e660847_k_2000.jpg
END:VEVENT
BEGIN:VEVENT
DTSTART;TZID=America/Chicago:20240726T190000
DTEND;TZID=America/Chicago:20240726T210000
DTSTAMP:20260420T220825
CREATED:20240411T162413Z
LAST-MODIFIED:20240411T162413Z
UID:10000797-1722020400-1722027600@northwestarkansas.org
SUMMARY:Silence in the Jungle (Live Theater in Eureka Springs)
DESCRIPTION:This intimate live theater experience was created to ignite your imagination and transport you to another world. Seated in our beautiful historic ballroom with a cocktail at your side\, you will follow our characters in this original story as they journey down a wild jungle river in 1936. True to Melonlight’s theatrical style\, the performance unfolds with phenomenal costumes\, fabulous lighting and a soundscape that will have you thinking you’re truly in the jungle. Featuring four skillful and captivating actors\, the story promises to entertain with love\, fright and curiosity. When new guests arrive for a Melonlight show\, they’re often unsure of what to expect\, but they always leave in awe and excitement. Get your tickets now for this Eureka Springs-must-see limited engagement. BYOB for All – Limited Seating – VIP Lounge Seats Available
URL:https://northwestarkansas.org/event/silence-in-the-jungle-live-theater-in-eureka-springs/2024-07-26/
LOCATION:melonlight ballroom\, 2 Pine St.\, Eureka Springs\, AR\, 72632\, United States
ATTACH;FMTTYPE=image/jpeg:https://northwestarkansas.org/wp-content/uploads/2024/04/428701424_899716708830650_4075607276389737009_n.jpg
END:VEVENT
BEGIN:VEVENT
DTSTART;TZID=America/Chicago:20240727T190000
DTEND;TZID=America/Chicago:20240727T210000
DTSTAMP:20260420T220825
CREATED:20240411T162413Z
LAST-MODIFIED:20240411T162413Z
UID:10000798-1722106800-1722114000@northwestarkansas.org
SUMMARY:Silence in the Jungle (Live Theater in Eureka Springs)
DESCRIPTION:This intimate live theater experience was created to ignite your imagination and transport you to another world. Seated in our beautiful historic ballroom with a cocktail at your side\, you will follow our characters in this original story as they journey down a wild jungle river in 1936. True to Melonlight’s theatrical style\, the performance unfolds with phenomenal costumes\, fabulous lighting and a soundscape that will have you thinking you’re truly in the jungle. Featuring four skillful and captivating actors\, the story promises to entertain with love\, fright and curiosity. When new guests arrive for a Melonlight show\, they’re often unsure of what to expect\, but they always leave in awe and excitement. Get your tickets now for this Eureka Springs-must-see limited engagement. BYOB for All – Limited Seating – VIP Lounge Seats Available
URL:https://northwestarkansas.org/event/silence-in-the-jungle-live-theater-in-eureka-springs/2024-07-27/
LOCATION:melonlight ballroom\, 2 Pine St.\, Eureka Springs\, AR\, 72632\, United States
ATTACH;FMTTYPE=image/jpeg:https://northwestarkansas.org/wp-content/uploads/2024/04/428701424_899716708830650_4075607276389737009_n.jpg
END:VEVENT
END:VCALENDAR