BEGIN:VCALENDAR
VERSION:2.0
PRODID:-//Northwest Arkansas - ECPv6.15.17.1//NONSGML v1.0//EN
CALSCALE:GREGORIAN
METHOD:PUBLISH
X-ORIGINAL-URL:https://northwestarkansas.org
X-WR-CALDESC:Events for Northwest Arkansas
REFRESH-INTERVAL;VALUE=DURATION:PT1H
X-Robots-Tag:noindex
X-PUBLISHED-TTL:PT1H
BEGIN:VTIMEZONE
TZID:UTC
BEGIN:STANDARD
TZOFFSETFROM:+0000
TZOFFSETTO:+0000
TZNAME:UTC
DTSTART:20220101T000000
END:STANDARD
END:VTIMEZONE
BEGIN:VEVENT
DTSTART;TZID=UTC:20231014T160000
DTEND;TZID=UTC:20231014T190000
DTSTAMP:20260423T091012
CREATED:20230721T013916Z
LAST-MODIFIED:20230721T013916Z
UID:10000085-1697299200-1697310000@northwestarkansas.org
SUMMARY:Bentonville Tequila Festival
DESCRIPTION:Join us on Saturday\, October 14\, 2023\, for our 2023 Bentonville Tequila Fest at the Peel Mansion from 4-7 pm.\nVIP TICKET HOLDERS ( ONLY 3:00 PM – 4:00 PM)\nAn exclusive VIP social where guests will:\n•	Learn agave history\, production\, and trends\n•	Discover our featured 100% de Agave spirits store and product\n•	Savor and taste our featured 100% de Agave spirits through an in-depth flight tasting session and maybe even fresh cocktails\n•	Delicious Heavy Hors d’oeuvres served to perfection\n•	Entry to Agave Trail\n•	Limited tickets\nGENERAL ADMISSION AGAVE TRAIL TASTING (4:00 PM – 7:00 PM)\n•	Savor and taste many 100% de agave tequilas\, mezcals and other agave spirits to taste and challenge your palate\n•	Move to the sounds of Latin music and witness cultural dances\n•	Dance and enjoy live music\nGuests must be 21 or older to attend. Photo I.D. is required. Please drink responsibly! Tickets are non-refundable.\nBy attending this event\, you agree to follow all applicable laws in regard to alcohol and its consumption as well as agree to not drink and drive.\nThis is a tasting event and there will be dump buckets at the event. Do not consume more than you can handle. Please be responsible\, Call an UBER.\n**Samples are available at check-in for anyone of legal age that asks\, regardless of the tickets purchased. TICKETS WILL NOT BE SOLD AT THE DOOR!
URL:https://northwestarkansas.org/event/bentonville-tequila-festival/
LOCATION:Peel Mansion\, 400 S Walton Blvd.\, Bentonville\, AR\, 72758\, United States
ATTACH;FMTTYPE=image/png:https://northwestarkansas.org/wp-content/uploads/2023/07/Lime-Margarita-Cocktail-Instagram-Post.png
ORGANIZER;CN="NWA Tequila Fest":MAILTO:info@tequilafest4u.com
END:VEVENT
BEGIN:VEVENT
DTSTART;TZID=UTC:20231028T110000
DTEND;TZID=UTC:20231028T170000
DTSTAMP:20260423T091012
CREATED:20230927T213436Z
LAST-MODIFIED:20230927T213436Z
UID:10000102-1698490800-1698512400@northwestarkansas.org
SUMMARY:Shire Post Mint 2nd Annual Shire Fest
DESCRIPTION:Event: Saturday\, October 28\, 11am – 5pm\nAddress: 52 W Main St\, West Fork\, Arkansas\, 72774\nWebsite: shirepost.com | Phone Number: 479-208-7700\nFollow on Social Media: @shirepostmint on Instagram\, TikTok\, Facebook\, and Twitter \n(West Fork\, Ark) All are welcome to join us for Shire Fest from 11am to 5pm on Saturday\, October 28 at Shire Post Mint\, a local family-run fantasy coining operation located at 52 W Main St. in West Fork. This is the second public event since Shire Post Mint opened its doors to walk-in customers in October 2021 at their custom designed building including a workshop and retail space.  \nVendors featured within the space\, as well as local craftspeople from around the area\, will have specialty goods for sale\, including clothes\, books\, jewelry\, beauty and wellness products\, leather\, candles\, gaming accessories\, arts\, crafts\, and more. Other performances\, games\, and activities are ongoing throughout the day as are food and drink vendors. An all-ages costume contest will be held\, and all are welcomed to attend in costume. \nThe indoor retail shop will be open\, offering a variety of hand-crafted coins—from favorite series like The Lord of the Rings and A Game of Thrones to specialty in-house designs\, like Moon Coins\, breakable Pizza Coins\, and Tooth Fairy Coins. Shire Fest also celebrates the opening of other spaces throughout our grounds and building\, as well as new permanent art pieces.  \n“We had about 500 people attend last year’s event\,” said Helen Maringer\, CEO of Shire Post\, “We are excited to build on our success from last year and have an even bigger event this year!”  \nShire Post Mint began in 2001 when Tom Maringer bought his first antique coin press. His techniques of hand-engraving steel dies and pressing one at a time were used in the 1800s and earlier. After a few years of research\, refinement\, and building a following\, he worked with George R.R. Martin to make custom coins made from his series A Song of Ice and Fire. Since then\, Shire Post Mint has grown into an internationally-recognized company known for attention to detail and a high level of craftsmanship.
URL:https://northwestarkansas.org/event/shire-post-mint-2nd-annual-shire-fest/
LOCATION:Shire Post Mint\, 52 Main St.\, West Fork\, 72774\, United States
ATTACH;FMTTYPE=image/png:https://northwestarkansas.org/wp-content/uploads/2023/09/Shire-Fest-2023.png
ORGANIZER;CN="Helen Maringer":MAILTO:info@shirepost.com
END:VEVENT
END:VCALENDAR